BEGIN:VCALENDAR
VERSION:2.0
METHOD:PUBLISH
PRODID:-//Missouri State University/Calendar of Events//EN
CALSCALE:GREGORIAN
X-WR-TIMEZONE:America/Chicago
BEGIN:VTIMEZONE
TZID:America/Chicago
BEGIN:DAYLIGHT
TZOFFSETFROM:-0600
TZOFFSETTO:-0500
DTSTART:20070311T020000
RRULE:FREQ=YEARLY;BYMONTH=3;BYDAY=2SU
TZNAME:CDT
END:DAYLIGHT
BEGIN:STANDARD
TZOFFSETFROM:-0500
TZOFFSETTO:-0600
DTSTART:20071104T020000
RRULE:FREQ=YEARLY;BYMONTH=11;BYDAY=1SU
TZNAME:CST
END:STANDARD
END:VTIMEZONE
BEGIN:VEVENT
UID:247a0178-16b8-40cc-a1d3-544dd203c22e.229506@calendar.missouristate.edu
CREATED:20230919T155530Z
LAST-MODIFIED:20230919T155530Z
LOCATION:
SUMMARY:Homecoming Parade
DESCRIPTION:This parade features student organizations competing for best 
 float\, car and walking decorations\, along with local high school marchi
 ng bands\, Homecoming Royalty\, President Clif Smart\, the Pride Band and
  much more! 
X-ALT-DESC;FMTTYPE=text/html:&lt;html&gt;&lt;head&gt;&lt;title&gt;&lt;/title&gt;&lt;/head&gt;&lt;body&gt;&lt;p&gt;Th
 is parade features student organizations competing for best float\, car a
 nd walking decorations\, along with local high school marching bands\, Ho
 mecoming Royalty\, President Clif Smart\, the Pride Band and much more!&amp;n
 bsp\;&lt;/p&gt;&lt;/body&gt;&lt;/html&gt;
DTSTART;TZID=America/Chicago:20231021T090000
DTEND;TZID=America/Chicago:20231021T100000
SEQUENCE:0
URL:120181.jpg
CATEGORIES:Public,Alumni,Current Students,Faculty,Future Students,Staff
END:VEVENT
END:VCALENDAR