BEGIN:VCALENDAR
VERSION:2.0
METHOD:PUBLISH
PRODID:-//Missouri State University/Calendar of Events//EN
CALSCALE:GREGORIAN
X-WR-TIMEZONE:America/Chicago
BEGIN:VTIMEZONE
TZID:America/Chicago
BEGIN:DAYLIGHT
TZOFFSETFROM:-0600
TZOFFSETTO:-0500
DTSTART:20070311T020000
RRULE:FREQ=YEARLY;BYMONTH=3;BYDAY=2SU
TZNAME:CDT
END:DAYLIGHT
BEGIN:STANDARD
TZOFFSETFROM:-0500
TZOFFSETTO:-0600
DTSTART:20071104T020000
RRULE:FREQ=YEARLY;BYMONTH=11;BYDAY=1SU
TZNAME:CST
END:STANDARD
END:VTIMEZONE
BEGIN:VEVENT
UID:2a243ee9-6236-46d0-9e5d-c7bd20d182a8.229507@calendar.missouristate.edu
CREATED:20230915T201502Z
LAST-MODIFIED:20230915T201502Z
LOCATION:Roy Blunt Hall 143
SUMMARY:Biology Seminar: "The Ozark Underground Laboratory and Tumbling Cr
 eek Cave"
DESCRIPTION:This is our first biology department seminar. My Stream Ecolog
 y lab group will host Dave Woods\, who earned both BS in Wildlife Bio and
  MS in Biology (research in Dr. Alicia Mathis’s lab) here at MO State. He
  has worked as a fish biologist with MDC and is now a lead scientist at t
 he Ozark Underground Lab\, located just north of Bull Shoals reservoir.  
 \n\n\nHe will not have a lot of time to spend with us (he will arrive by 
 about 2:30)\, but he is very interested to meet students. We are therefor
 e trying for the first time a little “mixer” with free snacks and drinks 
 just outside the seminar room (Tem/Blunt/SCNC 143) for 30-45 minutes befo
 re the seminar start time of 4 p.m. Please come by and mingle\, meet Dave
  and catch up with others in biology.
X-ALT-DESC;FMTTYPE=text/html:&lt;html&gt;&lt;head&gt;&lt;title&gt;&lt;/title&gt;&lt;/head&gt;&lt;body&gt;&lt;p&gt;Th
 is is our first biology department seminar. My Stream Ecology lab group w
 ill host Dave Woods\, who earned both BS in Wildlife Bio and MS in Biolog
 y (research in Dr. Alicia Mathis’s lab) here at MO State. He has worked a
 s a fish biologist with MDC and is now a lead scientist at the&amp;nbsp\;&lt;a h
 ref="https://www.ozarkundergroundlab.com"&gt;Ozark Underground Lab&lt;/a&gt;\, loc
 ated just north of Bull Shoals reservoir.&amp;nbsp\; &lt;/p&gt;\n&lt;p&gt;He will not hav
 e a lot of time to spend with us (he will arrive by about 2:30)\, but he 
 is very interested to meet students. We are therefore trying for the firs
 t time a little “mixer” with free snacks and drinks just outside the semi
 nar room (Tem/Blunt/SCNC 143) for 30-45 minutes before the seminar start 
 time of 4 p.m. Please come by and mingle\, meet Dave and catch up with ot
 hers in biology.&lt;/p&gt;&lt;/body&gt;&lt;/html&gt;
DTSTART;TZID=America/Chicago:20230922T160000
DTEND;TZID=America/Chicago:20230922T170000
SEQUENCE:0
URL:https://biology.missouristate.edu/biology-seminar-schedule.htm
CATEGORIES:Public,Alumni,Current Students,Faculty,Future Students,Staff
END:VEVENT
END:VCALENDAR