BEGIN:VCALENDAR
VERSION:2.0
METHOD:PUBLISH
PRODID:-//Missouri State University/Calendar of Events//EN
CALSCALE:GREGORIAN
X-WR-TIMEZONE:America/Chicago
BEGIN:VTIMEZONE
TZID:America/Chicago
BEGIN:DAYLIGHT
TZOFFSETFROM:-0600
TZOFFSETTO:-0500
DTSTART:20070311T020000
RRULE:FREQ=YEARLY;BYMONTH=3;BYDAY=2SU
TZNAME:CDT
END:DAYLIGHT
BEGIN:STANDARD
TZOFFSETFROM:-0500
TZOFFSETTO:-0600
DTSTART:20071104T020000
RRULE:FREQ=YEARLY;BYMONTH=11;BYDAY=1SU
TZNAME:CST
END:STANDARD
END:VTIMEZONE
BEGIN:VEVENT
UID:40972687-5745-4e14-be37-eefbd68f31a9.229521@calendar.missouristate.edu
CREATED:20230919T160055Z
LAST-MODIFIED:20230919T160055Z
LOCATION:Hammons Hall for the Performing Arts\, Juanita K.
SUMMARY:U.S. Naturalization Ceremony
DESCRIPTION:Members of the public are welcome to witness as applicants in 
 the United States Courts for the Western District of Missouri will take t
 heir Oath of Allegiance and thereby become a United States citizen.\n\n\n
 There will be a variety of speakers and vocal performances by Missouri St
 ate University's talent.  \n\n\nIt is rare for naturalization ceremonies 
 to be open to the public. Don't miss this special opportunity as MSU host
 s our newest United States citizens\, their families and friends.    \n\n
 \nVisit the Naturalization Ceremony website for parking information. 
X-ALT-DESC;FMTTYPE=text/html:&lt;html&gt;&lt;head&gt;&lt;title&gt;&lt;/title&gt;&lt;/head&gt;&lt;body&gt;&lt;p&gt;Me
 mbers of the public are welcome to witness as applicants in the United St
 ates Courts for the Western District of Missouri will take their Oath of 
 Allegiance and thereby become a United States citizen.&lt;/p&gt;\n&lt;p&gt;There will
  be a variety of speakers and vocal performances by Missouri State Univer
 sity's talent.&amp;nbsp\;&amp;nbsp\;&lt;/p&gt;\n&lt;p&gt;It is rare for naturalization ceremo
 nies to be open to the public. Don't miss this special opportunity as MSU
  hosts our newest United States citizens\, their families and friends.&amp;nb
 sp\; &amp;nbsp\;&amp;nbsp\;&lt;/p&gt;\n&lt;p&gt;Visit the&amp;nbsp\;&lt;a href="https://publicaffair
 s.missouristate.edu/united-states-naturalization.htm"&gt;Naturalization Cere
 mony website&lt;/a&gt; for parking information.&amp;nbsp\; &lt;/p&gt;&lt;/body&gt;&lt;/html&gt;
DTSTART;TZID=America/Chicago:20231019T113000
DTEND;TZID=America/Chicago:20231019T123000
SEQUENCE:0
URL:https://publicaffairs.missouristate.edu/united-states-naturalization.h
 tm
CATEGORIES:Public,Alumni,Current Students,Faculty,Future Students,Staff
END:VEVENT
END:VCALENDAR