BEGIN:VCALENDAR
VERSION:2.0
METHOD:PUBLISH
PRODID:-//Missouri State University/Calendar of Events//EN
CALSCALE:GREGORIAN
X-WR-TIMEZONE:America/Chicago
BEGIN:VTIMEZONE
TZID:America/Chicago
BEGIN:DAYLIGHT
TZOFFSETFROM:-0600
TZOFFSETTO:-0500
DTSTART:20070311T020000
RRULE:FREQ=YEARLY;BYMONTH=3;BYDAY=2SU
TZNAME:CDT
END:DAYLIGHT
BEGIN:STANDARD
TZOFFSETFROM:-0500
TZOFFSETTO:-0600
DTSTART:20071104T020000
RRULE:FREQ=YEARLY;BYMONTH=11;BYDAY=1SU
TZNAME:CST
END:STANDARD
END:VTIMEZONE
BEGIN:VEVENT
UID:56cc0190-4f52-4c1b-b727-61446d5dc280.229522@calendar.missouristate.edu
CREATED:20230919T200858Z
LAST-MODIFIED:20230919T200858Z
LOCATION:Plaster Student Union\, Robert W. PSU Grand Ballroom
SUMMARY:Day of the Dead Festival
DESCRIPTION:Come celebrate one of the most beloved Hispanic holidays with 
 traditional sugar-skull decorating\, papel picado art and cempazuchitl fl
 ower-making. Participate in the mini-altar diorama competition\, "Calaver
 itas" poetry creation and the Catrin and Catrina contests. Visit the trad
 itional altar and enjoy "Pan de Muerto" sweet bread. There will be live m
 usic from Mariachi Los Reyes and dances from Grupo Latinoamericano Dance 
 Troupe.  This festival is organized by the Department of Languages\, Cult
 ures and Religions\, in collaboration with Multicultural Programs\, and t
 he Reynolds College of Arts\, Social Sciences and Humanities. PSU Ballroo
 m West will be transformed into an all-day festival. Stop by and celebrat
 e these traditions and the spirits of the dead.
X-ALT-DESC;FMTTYPE=text/html:&lt;html&gt;&lt;head&gt;&lt;title&gt;&lt;/title&gt;&lt;/head&gt;&lt;body&gt;&lt;p&gt;Co
 me celebrate one of the most beloved Hispanic holidays with traditional s
 ugar-skull decorating\, papel picado art and cempazuchitl flower-making. 
 Participate in the mini-altar diorama competition\, "Calaveritas" poetry 
 creation and the Catrin and Catrina contests. Visit the traditional altar
  and enjoy "Pan de Muerto" sweet bread. There will be live music from Mar
 iachi Los Reyes and dances from Grupo Latinoamericano Dance Troupe. &amp;nbsp
 \;&lt;br&gt;&lt;br&gt;This festival is organized by the Department of Languages\, Cul
 tures and Religions\, in collaboration with Multicultural Programs\, and 
 the Reynolds College of Arts\, Social Sciences and Humanities. PSU Ballro
 om West will be transformed into an all-day festival. Stop by and celebra
 te these traditions and the spirits of the dead.&lt;/p&gt;&lt;/body&gt;&lt;/html&gt;
DTSTART;TZID=America/Chicago:20231102T100000
DTEND;TZID=America/Chicago:20231102T130000
SEQUENCE:0
URL:120196.png
CATEGORIES:Public,Alumni,Current Students,Faculty,Future Students,Staff
END:VEVENT
END:VCALENDAR