BEGIN:VCALENDAR
VERSION:2.0
METHOD:PUBLISH
PRODID:-//Missouri State University/Calendar of Events//EN
CALSCALE:GREGORIAN
X-WR-TIMEZONE:America/Chicago
BEGIN:VTIMEZONE
TZID:America/Chicago
BEGIN:DAYLIGHT
TZOFFSETFROM:-0600
TZOFFSETTO:-0500
DTSTART:20070311T020000
RRULE:FREQ=YEARLY;BYMONTH=3;BYDAY=2SU
TZNAME:CDT
END:DAYLIGHT
BEGIN:STANDARD
TZOFFSETFROM:-0500
TZOFFSETTO:-0600
DTSTART:20071104T020000
RRULE:FREQ=YEARLY;BYMONTH=11;BYDAY=1SU
TZNAME:CST
END:STANDARD
END:VTIMEZONE
BEGIN:VEVENT
UID:0468b36b-de8d-4efd-b12a-e4439fa375bf.229523@calendar.missouristate.edu
CREATED:20230918T193833Z
LAST-MODIFIED:20230918T193833Z
LOCATION:Cheek Hall 102
SUMMARY:Colloquium - Generative AI: Its Evolution\, Architecture and Impac
 ts in Data Science
DESCRIPTION:Thom Hutchison\, senior manager for Data Science and AI\, Husc
 h Blackwell\n\n\nAbstract: Generative Artificial Intelligence is proving 
 to be a legitimately disruptive technology in Data Science. It has enable
 d applications and solutions that were science fiction 12 months ago. To 
 understand how this technology is reshaping both business and the practic
 e of Data Science\, we will examine the history of AI leading up to the T
 ransformer architecture and how it has enabled the generative AI revoluti
 on.\n\n\n With that in hand\, we'll look at real-world business applicati
 ons leveraging generative AI\, discuss active research areas in LLM usage
  and examine how careers in Data Science will change in the coming years.
 \n\n\nUnderstanding these impacts will enable students to prepare for car
 eers in a constantly evolving landscape that looks completely different t
 han it did at the start of this decade.\n\n\nBIO: Thom Hutchison is the s
 enior manager for Data Science and AI at Husch Blackwell\, an Am Law 100 
 firm with 22 U.S. offices focusing on corporate practice across all areas
  of industry.\n\n\nBefore joining Husch\, he spent nearly five years lead
 ing the Data Science team at O'Reilly Auto Parts\, supporting the Fortune
  300 company's various units\, including marketing\, supply chain\, IT\, 
 HR\, legal and store ops.
X-ALT-DESC;FMTTYPE=text/html:&lt;html&gt;&lt;head&gt;&lt;title&gt;&lt;/title&gt;&lt;/head&gt;&lt;body&gt;&lt;p&gt;Th
 om Hutchison\, senior manager for Data Science and AI\, Husch Blackwell&lt;/
 p&gt;\n&lt;p&gt;&lt;b&gt;&lt;span&gt;Abstract: &lt;/span&gt;&lt;/b&gt;&lt;span&gt;Generative Artificial Intellig
 ence is proving to be a legitimately disruptive technology in Data Scienc
 e. It has enabled applications and solutions that were science fiction 12
  months ago. To understand how this technology is reshaping both business
  and the practice of Data Science\, we will examine the history of AI lea
 ding up to the Transformer architecture and how it has enabled the genera
 tive AI revolution.&lt;/span&gt;&lt;/p&gt;\n&lt;p&gt;&lt;span&gt; With that in hand\, we'll look 
 at real-world business applications leveraging generative AI\, discuss ac
 tive research areas in LLM usage and examine how careers in Data Science 
 will change in the coming years.&lt;/span&gt;&lt;/p&gt;\n&lt;p&gt;&lt;span&gt;Understanding these
  impacts will enable students to prepare for careers in a constantly evol
 ving landscape that looks completely different than it did at the start o
 f this decade.&lt;/span&gt;&lt;/p&gt;\n&lt;p&gt;&lt;b&gt;&lt;span&gt;BIO: &lt;/span&gt;&lt;/b&gt;&lt;span&gt;Thom Hutchis
 on is the senior manager for Data Science and AI at Husch Blackwell\, an 
 Am Law 100 firm with 22 U.S. offices focusing on corporate practice acros
 s all areas of industry.&lt;/span&gt;&lt;/p&gt;\n&lt;p&gt;Before joining Husch\, he spent n
 early five years leading the Data Science team at O'Reilly Auto Parts\, s
 upporting the Fortune 300 company's various units\, including marketing\,
  supply chain\, IT\, HR\, legal and store ops.&lt;/p&gt;&lt;/body&gt;&lt;/html&gt;
DTSTART;TZID=America/Chicago:20230927T150000
DTEND;TZID=America/Chicago:20230927T160000
SEQUENCE:0
URL:
CATEGORIES:Faculty
END:VEVENT
END:VCALENDAR