BEGIN:VCALENDAR
VERSION:2.0
METHOD:PUBLISH
PRODID:-//Missouri State University/Calendar of Events//EN
CALSCALE:GREGORIAN
X-WR-TIMEZONE:America/Chicago
BEGIN:VTIMEZONE
TZID:America/Chicago
BEGIN:DAYLIGHT
TZOFFSETFROM:-0600
TZOFFSETTO:-0500
DTSTART:20070311T020000
RRULE:FREQ=YEARLY;BYMONTH=3;BYDAY=2SU
TZNAME:CDT
END:DAYLIGHT
BEGIN:STANDARD
TZOFFSETFROM:-0500
TZOFFSETTO:-0600
DTSTART:20071104T020000
RRULE:FREQ=YEARLY;BYMONTH=11;BYDAY=1SU
TZNAME:CST
END:STANDARD
END:VTIMEZONE
BEGIN:VEVENT
UID:3aacbcab-6eab-41a6-8a95-55e020a32179.229525@calendar.missouristate.edu
CREATED:20230922T025055Z
LAST-MODIFIED:20230922T025055Z
LOCATION:McQueary Family Health Sciences Hall 126
SUMMARY:MCHHS Fall 2023 Speakers Series: AI in Public Health and Healthcar
 e: How I Learned to Love the Machine and Fear it too
DESCRIPTION:Join us for the second session of the MMCHHS Fall 2023 Speaker
 s Series. The topic will be AI in Public Health and Healthcare: How I Lea
 rned to Love the Machine and Fear it too.\n\n\nGuest speaker  Dr. David L
 uxton will discuss current and emerging AI advancements in healthcare\, c
 ore ethical risks and what health professionals need to know. \n\n\nHe's 
 an affiliate professor in the Department of Psychiatry and Behavioral Sci
 ences at the University of Washington School of Medicine. Luxton is an au
 thor and research scientist focused on the design and study of innovative
  technologies in healthcare with specialization in AI and ethics. \n\n\nT
 he event will be held on campus and on Zoom. \n\n\nLight refreshments wil
 l be served and there will be prize drawings at the end.
X-ALT-DESC;FMTTYPE=text/html:&lt;html&gt;&lt;head&gt;&lt;title&gt;&lt;/title&gt;&lt;/head&gt;&lt;body&gt;&lt;p&gt;Jo
 in us for the second session of the MMCHHS Fall 2023 Speakers Series. The
  topic will be&amp;nbsp\;&lt;span&gt;AI in Public Health and Healthcare: How I Lear
 ned to Love the Machine and Fear it too&lt;/span&gt;.&lt;/p&gt;\n&lt;p&gt;Guest speaker &lt;sp
 an&gt; &lt;/span&gt;&lt;a href="https://www.davidluxton.com/about.html"&gt;&lt;span&gt;Dr. Dav
 id Luxton&lt;/span&gt;&lt;/a&gt;&lt;span&gt; &lt;/span&gt;will discuss current and emerging AI ad
 vancements in healthcare\, core ethical risks and what health professiona
 ls need to know. &lt;/p&gt;\n&lt;p&gt;&lt;span&gt;He's an affiliate professor in the Depart
 ment of Psychiatry and Behavioral Sciences at the &lt;/span&gt;&lt;span&gt;University
  of Washington School of Medicine&lt;/span&gt;&lt;span&gt;.&lt;/span&gt;&lt;span&gt; Luxton is an
  author and research scientist focused on the design and study of innovat
 ive technologies in healthcare with specialization in AI and ethics.&lt;/spa
 n&gt;&lt;span&gt; &lt;br&gt;&lt;/span&gt;&lt;/p&gt;\n&lt;p&gt;The event will be held on campus and on &lt;a h
 ref="https://missouristate.zoom.us/j/99947725820#success"&gt;Zoom&lt;/a&gt;. &lt;/p&gt;\
 n&lt;p&gt;Light refreshments will be served and there will be prize drawings at
  the end.&lt;/p&gt;&lt;/body&gt;&lt;/html&gt;
DTSTART;TZID=America/Chicago:20231027T133000
DTEND;TZID=America/Chicago:20231027T150000
SEQUENCE:0
URL:https://mchhs.missouristate.edu/_Files/AI-combinedZoom.pdf
CATEGORIES:Alumni,Current Students,Faculty,Future Students,Staff
END:VEVENT
END:VCALENDAR