BEGIN:VCALENDAR
VERSION:2.0
METHOD:PUBLISH
PRODID:-//Missouri State University/Calendar of Events//EN
CALSCALE:GREGORIAN
X-WR-TIMEZONE:America/Chicago
BEGIN:VTIMEZONE
TZID:America/Chicago
BEGIN:DAYLIGHT
TZOFFSETFROM:-0600
TZOFFSETTO:-0500
DTSTART:20070311T020000
RRULE:FREQ=YEARLY;BYMONTH=3;BYDAY=2SU
TZNAME:CDT
END:DAYLIGHT
BEGIN:STANDARD
TZOFFSETFROM:-0500
TZOFFSETTO:-0600
DTSTART:20071104T020000
RRULE:FREQ=YEARLY;BYMONTH=11;BYDAY=1SU
TZNAME:CST
END:STANDARD
END:VTIMEZONE
BEGIN:VEVENT
UID:37e2fcf7-cca6-4300-b5c6-2c86096dea0f.229526@calendar.missouristate.edu
CREATED:20230922T024332Z
LAST-MODIFIED:20230922T024332Z
LOCATION:
SUMMARY:MCHHS Fall 2023 Speakers Series: AI and Higher Education: Write Ef
 fective ChatGPT Prompts to Boost Research Productivity
DESCRIPTION:Join us for our third MCHHS Fall 2023 Speakers Series. Dr. Ruo
 peng An will discuss how to write effective ChatGPT prompts to boost rese
 arch productivity. An is an associate professor at Washington University 
 in St. Louis. \n\n\nThe discussion will be held on Zoom.\n\n\nThere will 
 be prize drawings at the end.
X-ALT-DESC;FMTTYPE=text/html:&lt;html&gt;&lt;head&gt;&lt;title&gt;&lt;/title&gt;&lt;/head&gt;&lt;body&gt;&lt;p&gt;Jo
 in us for our third MCHHS Fall 2023 Speakers Series. Dr. Ruopeng An will 
 discuss how to write effective ChatGPT prompts to boost research producti
 vity. An is an associate professor at Washington University in St. Louis.
  &lt;/p&gt;\n&lt;p&gt;The discussion will be held on&amp;nbsp\;&lt;a href="https://missouris
 tate.zoom.us/j/93677653379#success"&gt;Zoom&lt;/a&gt;.&lt;/p&gt;\n&lt;p&gt;There will be prize
  drawings at the end.&lt;/p&gt;&lt;/body&gt;&lt;/html&gt;
DTSTART;TZID=America/Chicago:20231110T133000
DTEND;TZID=America/Chicago:20231110T150000
SEQUENCE:1
URL:https://mchhs.missouristate.edu/_Files/AI-combinedZoom.pdf
CATEGORIES:Alumni,Current Students,Faculty,Future Students,Staff
END:VEVENT
END:VCALENDAR