BEGIN:VCALENDAR
VERSION:2.0
METHOD:PUBLISH
PRODID:-//Missouri State University/Calendar of Events//EN
CALSCALE:GREGORIAN
X-WR-TIMEZONE:America/Chicago
BEGIN:VTIMEZONE
TZID:America/Chicago
BEGIN:DAYLIGHT
TZOFFSETFROM:-0600
TZOFFSETTO:-0500
DTSTART:20070311T020000
RRULE:FREQ=YEARLY;BYMONTH=3;BYDAY=2SU
TZNAME:CDT
END:DAYLIGHT
BEGIN:STANDARD
TZOFFSETFROM:-0500
TZOFFSETTO:-0600
DTSTART:20071104T020000
RRULE:FREQ=YEARLY;BYMONTH=11;BYDAY=1SU
TZNAME:CST
END:STANDARD
END:VTIMEZONE
BEGIN:VEVENT
UID:e8bf7da6-699c-4777-856d-abc241e755f7.229537@calendar.missouristate.edu
CREATED:20230919T181057Z
LAST-MODIFIED:20230919T181057Z
LOCATION:Kemper Hall 204
SUMMARY:PAMS Seminar: "What I thought I learned\, what I actually learned\
 , and what I wished I learned from getting a bachelors in Physics" by Aus
 tin Shearin
DESCRIPTION:Abstract:\n\n\nThis will be a discussion of how my degree in p
 hysics affected my career. I will discuss some of my misconceptions regar
 ding the knowledge I obtained from pursuing a degree in physics. I'll fil
 l you in on the things I wish I had focused on more while still in school
 . I'll also review some general suggestions about entering the job market
  and starting a career based on some of the pitfalls I have experienced.\
 n\n\nAustin Shearin is an alumni of PAMS.
X-ALT-DESC;FMTTYPE=text/html:&lt;html&gt;&lt;head&gt;&lt;title&gt;&lt;/title&gt;&lt;/head&gt;&lt;body&gt;&lt;p&gt;Ab
 stract:&lt;/p&gt;\n&lt;p&gt;This will be a discussion of how my degree in physics aff
 ected my career. I will discuss some of my misconceptions regarding the k
 nowledge I obtained from pursuing a degree in physics. I'll fill you in o
 n the things I wish I had focused on more while still in school. I'll als
 o review some general suggestions about entering the job market and start
 ing a career based on some of the pitfalls I have experienced.&lt;/p&gt;\n&lt;p&gt;&lt;s
 trong&gt;Austin Shearin&amp;nbsp\;&lt;/strong&gt;&lt;b&gt;is an alumni of PAMS.&lt;/b&gt;&lt;/p&gt;&lt;/bod
 y&gt;&lt;/html&gt;
DTSTART;TZID=America/Chicago:20230928T160000
DTEND;TZID=America/Chicago:20230928T170000
SEQUENCE:0
URL:https://physics.missouristate.edu/seminars.htm
CATEGORIES:Public,Alumni,Current Students,Faculty,Future Students,Staff
END:VEVENT
END:VCALENDAR