BEGIN:VCALENDAR
VERSION:2.0
METHOD:PUBLISH
PRODID:-//Missouri State University/Calendar of Events//EN
CALSCALE:GREGORIAN
X-WR-TIMEZONE:America/Chicago
BEGIN:VTIMEZONE
TZID:America/Chicago
BEGIN:DAYLIGHT
TZOFFSETFROM:-0600
TZOFFSETTO:-0500
DTSTART:20070311T020000
RRULE:FREQ=YEARLY;BYMONTH=3;BYDAY=2SU
TZNAME:CDT
END:DAYLIGHT
BEGIN:STANDARD
TZOFFSETFROM:-0500
TZOFFSETTO:-0600
DTSTART:20071104T020000
RRULE:FREQ=YEARLY;BYMONTH=11;BYDAY=1SU
TZNAME:CST
END:STANDARD
END:VTIMEZONE
BEGIN:VEVENT
UID:0b1e8830-6b43-4f7b-9ab3-e10d25c25508.229538@calendar.missouristate.edu
CREATED:20230920T165730Z
LAST-MODIFIED:20230920T165730Z
LOCATION:Morris Center\, Jim D. 500
SUMMARY:In-Person Optional Practical Training (OPT) Workshop
DESCRIPTION:International students in F-1 visa status who are graduating i
 n fall 2023 or spring 2024 semesters and intend to apply for Post-Complet
 ion Optional Practical Training (OPT) are strongly encouraged to attend a
 n OPT workshop hosted by the Office of International Services.
X-ALT-DESC;FMTTYPE=text/html:&lt;html&gt;&lt;head&gt;&lt;title&gt;&lt;/title&gt;&lt;/head&gt;&lt;body&gt;&lt;p&gt;In
 ternational students in F-1 visa status who are graduating in fall 2023 o
 r spring 2024 semesters and intend to apply for Post-Completion Optional 
 Practical Training (OPT) are strongly encouraged to attend&amp;nbsp\;an OPT w
 orkshop hosted by the Office of International Services.&lt;/p&gt;&lt;/body&gt;&lt;/html&gt;
DTSTART;TZID=America/Chicago:20230920T123000
DTEND;TZID=America/Chicago:20230920T140000
SEQUENCE:0
URL:https://international.missouristate.edu/Services/international-student
 .htm
CATEGORIES:Current Students
END:VEVENT
END:VCALENDAR