BEGIN:VCALENDAR
VERSION:2.0
METHOD:PUBLISH
PRODID:-//Missouri State University/Calendar of Events//EN
CALSCALE:GREGORIAN
X-WR-TIMEZONE:America/Chicago
BEGIN:VTIMEZONE
TZID:America/Chicago
BEGIN:DAYLIGHT
TZOFFSETFROM:-0600
TZOFFSETTO:-0500
DTSTART:20070311T020000
RRULE:FREQ=YEARLY;BYMONTH=3;BYDAY=2SU
TZNAME:CDT
END:DAYLIGHT
BEGIN:STANDARD
TZOFFSETFROM:-0500
TZOFFSETTO:-0600
DTSTART:20071104T020000
RRULE:FREQ=YEARLY;BYMONTH=11;BYDAY=1SU
TZNAME:CST
END:STANDARD
END:VTIMEZONE
BEGIN:VEVENT
UID:15b7652f-e66c-4292-8626-78041e07e6a3.229546@calendar.missouristate.edu
CREATED:20230919T212527Z
LAST-MODIFIED:20230919T212527Z
LOCATION:Roy Blunt Hall 345
SUMMARY:GGP Seminar: "Reading the Green Book: The Intersection of Black Ge
 ographies and Critical GIS"
DESCRIPTION:Presented: Dr. Ethan Bottone\, Northwest Missouri State Univer
 sity\n\n\nThe "Green Book\," a Jim Crow era travel guide created by Black
  Americans for Black Americans\, has received much recent popular and aca
 demic scrutiny. Consisting of almost 30 editions published between 1936 a
 nd 1967\, the "Green Book" facilitated safe travel by Black travelers thr
 ough hostile areas of the United States. It provided escape from harassme
 nt and potential violence instigated by unwelcoming shopkeepers and patro
 ns. As a toll of resistance\, the many editions of the "Green Book" provi
 de a kind of road map that can reveal Black geographies previously forgot
 ten by hegemonic knowledge structures.\n\n\nThis presentation addresses t
 his gap by understanding how the text of the "Green Book" can be read thr
 ough the epistemologies of Black geographies and critical geographic info
 rmation science (GIS science). By comparing the spatial data of the "Gree
 n Book" to historical data\, trends in urban neighborhood composition can
  help understand how Black travel patterns shifted during the Jim Crow er
 a. Furthermore\, such mapping reveals the complex networks of spaces deve
 loped by Black Americans to live within a segregationist society while ac
 tively resisting discrimination through the construction of counter-publi
 c spaces. \n\n\nBottone is an assistant professor of geography and the as
 sistant chair\, Department of Humanities and Social Sciences at Northwest
  Missouri State University. He received his PhD from the University of Te
 nnessee\, where his dissertation focused on the intersections of race\, m
 obility and travel. Currently\, his research explores multiple aspects of
  just and sustainable tourism\, including a forthcoming chapter investiga
 ting the affective atmospheres present at the Titanic Museum attraction i
 n Pigeon Forge\, Tennessee.  
X-ALT-DESC;FMTTYPE=text/html:&lt;html&gt;&lt;head&gt;&lt;title&gt;&lt;/title&gt;&lt;/head&gt;&lt;body&gt;&lt;p&gt;Pr
 esented: Dr. Ethan Bottone\, Northwest Missouri State University&lt;/p&gt;\n&lt;p&gt;
 The "Green Book\," a Jim Crow era travel guide created by Black Americans
  for Black Americans\, has received much recent popular and academic scru
 tiny. Consisting of almost 30 editions published between 1936 and 1967\, 
 the "Green Book"&lt;em&gt; &lt;/em&gt;facilitated safe travel by Black travelers thro
 ugh hostile areas of the United States. It provided escape from harassmen
 t and potential violence instigated by unwelcoming shopkeepers and patron
 s. As a toll of resistance\, the many editions of the "Green Book" provid
 e a kind of road map that can reveal Black geographies previously forgott
 en by hegemonic knowledge structures.&lt;/p&gt;\n&lt;p&gt;This presentation addresses
  this gap by understanding how the text of the "Green Book" can be read t
 hrough the epistemologies of Black geographies and critical geographic in
 formation science (GIS science). By comparing the spatial data of the "Gr
 een Book" to historical data\, trends in urban neighborhood composition c
 an help understand how Black travel patterns shifted during the Jim Crow 
 era. Furthermore\, such mapping reveals the complex networks of spaces de
 veloped by Black Americans to live within a segregationist society while 
 actively resisting discrimination through the construction of counter-pub
 lic spaces.&amp;nbsp\;&lt;/p&gt;\n&lt;p&gt;Bottone is an assistant professor of geography
  and the assistant chair\, Department of Humanities and Social Sciences a
 t Northwest Missouri State University. He received his PhD from the Unive
 rsity of Tennessee\, where his dissertation focused on the intersections 
 of race\, mobility and travel. Currently\, his research explores multiple
  aspects of just and sustainable tourism\, including a forthcoming chapte
 r investigating the affective atmospheres present at the Titanic Museum a
 ttraction in Pigeon Forge\, Tennessee.&amp;nbsp\;&amp;nbsp\;&lt;/p&gt;&lt;/body&gt;&lt;/html&gt;
DTSTART;TZID=America/Chicago:20231006T143000
DTEND;TZID=America/Chicago:20231006T153000
SEQUENCE:0
URL:http://www.geosciences.missouristate.edu
CATEGORIES:Public,Current Students,Faculty
END:VEVENT
END:VCALENDAR