BEGIN:VCALENDAR
VERSION:2.0
METHOD:PUBLISH
PRODID:-//Missouri State University/Calendar of Events//EN
CALSCALE:GREGORIAN
X-WR-TIMEZONE:America/Chicago
BEGIN:VTIMEZONE
TZID:America/Chicago
BEGIN:DAYLIGHT
TZOFFSETFROM:-0600
TZOFFSETTO:-0500
DTSTART:20070311T020000
RRULE:FREQ=YEARLY;BYMONTH=3;BYDAY=2SU
TZNAME:CDT
END:DAYLIGHT
BEGIN:STANDARD
TZOFFSETFROM:-0500
TZOFFSETTO:-0600
DTSTART:20071104T020000
RRULE:FREQ=YEARLY;BYMONTH=11;BYDAY=1SU
TZNAME:CST
END:STANDARD
END:VTIMEZONE
BEGIN:VEVENT
UID:884a3b9f-9e59-4c9b-acb8-400fbc776904.229549@calendar.missouristate.edu
CREATED:20230920T131633Z
LAST-MODIFIED:20230920T131633Z
LOCATION:Plaster Student Union\, Robert W. Ballroom
SUMMARY:Etiquette Brunch 
DESCRIPTION:Have you ever wondered which fork is for desserts and which on
 e is for salad? Well\, wonder no further! Join us for a lesson about etiq
 uette and good manners for brunch. Tasty food\, useful skills\, and fun t
 ime with friends!
X-ALT-DESC;FMTTYPE=text/html:&lt;html&gt;&lt;head&gt;&lt;title&gt;&lt;/title&gt;&lt;/head&gt;&lt;body&gt;&lt;p&gt;Ha
 ve you ever wondered which fork is for desserts and which one is for sala
 d? Well\, wonder no further! Join us for a lesson about etiquette and goo
 d manners for brunch. Tasty food\, useful skills\, and fun time with frie
 nds!&lt;/p&gt;&lt;/body&gt;&lt;/html&gt;
DTSTART;TZID=America/Chicago:20231205T100000
DTEND;TZID=America/Chicago:20231205T110000
SEQUENCE:0
URL:https://calendar.missouristate.edu/viewevent.aspx?eventid=120210&amp;occur
 renceid=229549
CATEGORIES:Current Students
END:VEVENT
END:VCALENDAR