BEGIN:VCALENDAR
VERSION:2.0
METHOD:PUBLISH
PRODID:-//Missouri State University/Calendar of Events//EN
CALSCALE:GREGORIAN
X-WR-TIMEZONE:America/Chicago
BEGIN:VTIMEZONE
TZID:America/Chicago
BEGIN:DAYLIGHT
TZOFFSETFROM:-0600
TZOFFSETTO:-0500
DTSTART:20070311T020000
RRULE:FREQ=YEARLY;BYMONTH=3;BYDAY=2SU
TZNAME:CDT
END:DAYLIGHT
BEGIN:STANDARD
TZOFFSETFROM:-0500
TZOFFSETTO:-0600
DTSTART:20071104T020000
RRULE:FREQ=YEARLY;BYMONTH=11;BYDAY=1SU
TZNAME:CST
END:STANDARD
END:VTIMEZONE
BEGIN:VEVENT
UID:6838a2b6-178b-4686-9fe7-6232e3ed6484.229550@calendar.missouristate.edu
CREATED:20230920T131645Z
LAST-MODIFIED:20230920T131645Z
LOCATION:Plaster Student Union\, Robert W. 101 - MRC
SUMMARY:ChaTea Time
DESCRIPTION:Travel the world by tasting teas from many countries! Pop into
  the MRC for some teas and snacks\, and for a chance to get to know the M
 RC staff and ask any questions. 
X-ALT-DESC;FMTTYPE=text/html:&lt;html&gt;&lt;head&gt;&lt;title&gt;&lt;/title&gt;&lt;/head&gt;&lt;body&gt;&lt;p&gt;Tr
 avel the world by tasting teas from many countries! Pop into the MRC for 
 some teas and snacks\, and for a chance to get to know the MRC staff and 
 ask any questions.&amp;nbsp\;&lt;/p&gt;&lt;/body&gt;&lt;/html&gt;
DTSTART;TZID=America/Chicago:20231206T140000
DTEND;TZID=America/Chicago:20231206T160000
SEQUENCE:0
URL:https://calendar.missouristate.edu/viewevent.aspx?eventid=120211&amp;occur
 renceid=229550
CATEGORIES:Current Students,Faculty,Staff
END:VEVENT
END:VCALENDAR