BEGIN:VCALENDAR
VERSION:2.0
METHOD:PUBLISH
PRODID:-//Missouri State University/Calendar of Events//EN
CALSCALE:GREGORIAN
X-WR-TIMEZONE:America/Chicago
BEGIN:VTIMEZONE
TZID:America/Chicago
BEGIN:DAYLIGHT
TZOFFSETFROM:-0600
TZOFFSETTO:-0500
DTSTART:20070311T020000
RRULE:FREQ=YEARLY;BYMONTH=3;BYDAY=2SU
TZNAME:CDT
END:DAYLIGHT
BEGIN:STANDARD
TZOFFSETFROM:-0500
TZOFFSETTO:-0600
DTSTART:20071104T020000
RRULE:FREQ=YEARLY;BYMONTH=11;BYDAY=1SU
TZNAME:CST
END:STANDARD
END:VTIMEZONE
BEGIN:VEVENT
UID:00000000-0000-0000-0000-000000000000.229551@calendar.missouristate.edu
CREATED:20230920T164555Z
LAST-MODIFIED:20230920T164555Z
LOCATION:To Be Determined
SUMMARY:Kansas City Alumni Chapter Chiefs Watch Party
DESCRIPTION:Join fellow Bears and friends of the KC Alumni Chapter for a C
 hiefs watch party on October 8 at Coach's Bar &amp; Grill.
X-ALT-DESC;FMTTYPE=text/html:&lt;html&gt;&lt;head&gt;&lt;title&gt;&lt;/title&gt;&lt;/head&gt;&lt;body&gt;Join 
 fellow Bears and friends of the KC Alumni Chapter for a Chiefs watch part
 y on October 8 at Coach's Bar &amp;amp\; Grill.&lt;/body&gt;&lt;/html&gt;
DTSTART;TZID=America/Chicago:20231008T150000
DTEND;TZID=America/Chicago:20231008T180000
SEQUENCE:0
URL:https://missouristate.imodules.com?sid=1691&amp;gid=2&amp;pgid=3359&amp;cid=5847&amp;e
 cid=5847&amp;ciid=19754&amp;crid=0
CATEGORIES:Public,Alumni,Parents and Family,Visitors
END:VEVENT
END:VCALENDAR