BEGIN:VCALENDAR
VERSION:2.0
METHOD:PUBLISH
PRODID:-//Missouri State University/Calendar of Events//EN
CALSCALE:GREGORIAN
X-WR-TIMEZONE:America/Chicago
BEGIN:VTIMEZONE
TZID:America/Chicago
BEGIN:DAYLIGHT
TZOFFSETFROM:-0600
TZOFFSETTO:-0500
DTSTART:20070311T020000
RRULE:FREQ=YEARLY;BYMONTH=3;BYDAY=2SU
TZNAME:CDT
END:DAYLIGHT
BEGIN:STANDARD
TZOFFSETFROM:-0500
TZOFFSETTO:-0600
DTSTART:20071104T020000
RRULE:FREQ=YEARLY;BYMONTH=11;BYDAY=1SU
TZNAME:CST
END:STANDARD
END:VTIMEZONE
BEGIN:VEVENT
UID:9c5ca259-b70c-4d98-ba53-757223f22f85.229554@calendar.missouristate.edu
CREATED:20230920T224056Z
LAST-MODIFIED:20230920T224056Z
LOCATION:Recreation Center\, Bill R. Foster and Family
SUMMARY:Breakfast with Boomer
DESCRIPTION:Bring the kids to meet Boomer and enjoy a kid-friendly breakfa
 st\, inflatables\, face painting and other activities. Also\, get a free 
 family photo with Boomer!
X-ALT-DESC;FMTTYPE=text/html:&lt;html&gt;&lt;head&gt;&lt;title&gt;&lt;/title&gt;&lt;/head&gt;&lt;body&gt;&lt;p&gt;Br
 ing the kids to meet Boomer and enjoy a kid-friendly breakfast\, inflatab
 les\, face painting and other activities. Also\, get a free family photo 
 with Boomer!&lt;/p&gt;&lt;/body&gt;&lt;/html&gt;
DTSTART;TZID=America/Chicago:20231021T100000
DTEND;TZID=America/Chicago:20231021T113000
SEQUENCE:0
URL:https://alumni.missouristate.edu/Homecoming/default.htm
CATEGORIES:Public,Alumni,Current Students,Faculty,Future Students,Staff
END:VEVENT
END:VCALENDAR