BEGIN:VCALENDAR
VERSION:2.0
METHOD:PUBLISH
PRODID:-//Missouri State University/Calendar of Events//EN
CALSCALE:GREGORIAN
X-WR-TIMEZONE:America/Chicago
BEGIN:VTIMEZONE
TZID:America/Chicago
BEGIN:DAYLIGHT
TZOFFSETFROM:-0600
TZOFFSETTO:-0500
DTSTART:20070311T020000
RRULE:FREQ=YEARLY;BYMONTH=3;BYDAY=2SU
TZNAME:CDT
END:DAYLIGHT
BEGIN:STANDARD
TZOFFSETFROM:-0500
TZOFFSETTO:-0600
DTSTART:20071104T020000
RRULE:FREQ=YEARLY;BYMONTH=11;BYDAY=1SU
TZNAME:CST
END:STANDARD
END:VTIMEZONE
BEGIN:VEVENT
UID:132e5a34-5c2e-408c-b6fe-d566c7a8ed0e.229555@calendar.missouristate.edu
CREATED:20230926T163523Z
LAST-MODIFIED:20230926T163523Z
LOCATION:Blair-Shannon House Grand Lounge
SUMMARY:Halloween in the Halls – Safe Trick-or-Treat
DESCRIPTION:The Residence Hall Association will sponsor a safe indoor Hall
 oween experience for the children and grandchildren (ages 2-12) of all Mi
 ssouri State faculty\, staff and students. Tours will start at 5:15 p.m. 
 and the last tour will leave Blair-Shannon's Grand Lounge at 7:30 p.m.\n\
 n\nThe Pumpkin Patch in the lounge will include check-in\, games and refr
 eshments. All floors will be non-scary. Residents of our buildings will b
 e trained to be tour guides known as Pumpkin Pals and will escort the chi
 ldren through the residence halls.\n\n\nDuring the event\, we will also c
 ollect individually wrapped candy donations that will later be taken to C
 ox Children’s Hospital! Donations are welcomed but not required to partic
 ipate in the event.
X-ALT-DESC;FMTTYPE=text/html:&lt;html&gt;&lt;head&gt;&lt;title&gt;&lt;/title&gt;&lt;/head&gt;&lt;body&gt;&lt;p&gt;Th
 e Residence Hall Association will sponsor a safe indoor Halloween experie
 nce for the children and grandchildren (ages 2-12) of all Missouri State 
 faculty\, staff and students. Tours will start at 5:15 p.m. and the last 
 tour will leave Blair-Shannon's Grand Lounge at 7:30 p.m.&lt;/p&gt;\n&lt;p&gt;The Pum
 pkin Patch in the lounge will include check-in\, games and refreshments. 
 All floors will be non-scary. Residents of our buildings will be trained 
 to be tour guides known as Pumpkin Pals and will escort the children thro
 ugh the residence halls.&lt;/p&gt;\n&lt;p&gt;During the event\, we will also collect 
 individually wrapped candy donations that will later be taken to Cox Chil
 dren’s Hospital! Donations are welcomed but not required to participate i
 n the event.&lt;/p&gt;&lt;/body&gt;&lt;/html&gt;
DTSTART;TZID=America/Chicago:20231101T170000
DTEND;TZID=America/Chicago:20231101T200000
SEQUENCE:0
URL:120217.jpg
CATEGORIES:Current Students,Faculty,Staff
END:VEVENT
END:VCALENDAR