BEGIN:VCALENDAR
VERSION:2.0
METHOD:PUBLISH
PRODID:-//Missouri State University/Calendar of Events//EN
CALSCALE:GREGORIAN
X-WR-TIMEZONE:America/Chicago
BEGIN:VTIMEZONE
TZID:America/Chicago
BEGIN:DAYLIGHT
TZOFFSETFROM:-0600
TZOFFSETTO:-0500
DTSTART:20070311T020000
RRULE:FREQ=YEARLY;BYMONTH=3;BYDAY=2SU
TZNAME:CDT
END:DAYLIGHT
BEGIN:STANDARD
TZOFFSETFROM:-0500
TZOFFSETTO:-0600
DTSTART:20071104T020000
RRULE:FREQ=YEARLY;BYMONTH=11;BYDAY=1SU
TZNAME:CST
END:STANDARD
END:VTIMEZONE
BEGIN:VEVENT
UID:215b93bf-bccf-4a69-9630-09fb3516a974.229556@calendar.missouristate.edu
CREATED:20231002T202858Z
LAST-MODIFIED:20231002T202858Z
LOCATION:Plaster Student Union\, Robert W. Ballroom
SUMMARY:Veterans Day Breakfast and Taps Project
DESCRIPTION:All Springfield area veterans are invited to a complimentary b
 reakfast in appreciation for their military service followed by a Taps Pr
 oject program. 
X-ALT-DESC;FMTTYPE=text/html:&lt;html&gt;&lt;head&gt;&lt;title&gt;&lt;/title&gt;&lt;/head&gt;&lt;body&gt;&lt;p&gt;Al
 l Springfield area veterans are invited to a complimentary breakfast in a
 ppreciation for their military service followed by a Taps Project program
 .&amp;nbsp\; &lt;/p&gt;&lt;/body&gt;&lt;/html&gt;
DTSTART;TZID=America/Chicago:20231110T080000
DTEND;TZID=America/Chicago:20231110T100000
SEQUENCE:1
URL:https://missouristate.imodules.com?sid=1691&amp;gid=2&amp;pgid=3353&amp;cid=5829&amp;e
 cid=5829&amp;ciid=20057&amp;crid=0
CATEGORIES:Public,Alumni,Parents And Family,Visitors
END:VEVENT
END:VCALENDAR