BEGIN:VCALENDAR
VERSION:2.0
METHOD:PUBLISH
PRODID:-//Missouri State University/Calendar of Events//EN
CALSCALE:GREGORIAN
X-WR-TIMEZONE:America/Chicago
BEGIN:VTIMEZONE
TZID:America/Chicago
BEGIN:DAYLIGHT
TZOFFSETFROM:-0600
TZOFFSETTO:-0500
DTSTART:20070311T020000
RRULE:FREQ=YEARLY;BYMONTH=3;BYDAY=2SU
TZNAME:CDT
END:DAYLIGHT
BEGIN:STANDARD
TZOFFSETFROM:-0500
TZOFFSETTO:-0600
DTSTART:20071104T020000
RRULE:FREQ=YEARLY;BYMONTH=11;BYDAY=1SU
TZNAME:CST
END:STANDARD
END:VTIMEZONE
BEGIN:VEVENT
UID:218b6e0b-e11b-4a88-8663-1019eb539aba.229570@calendar.missouristate.edu
CREATED:20230923T051507Z
LAST-MODIFIED:20230923T051507Z
LOCATION:Springfield\, Great Southern Bank Arena
SUMMARY:Missouri State University Men's Basketball vs Belmont - KC Wolf Ap
 pearance / Wear Chiefs Gear | Black History Month Celebration | $5 Upper-
 Level Tickets
DESCRIPTION:Missouri State University Men's Basketball plays Belmont - KC 
 Wolf Appearance / Wear Chiefs Gear | Black History Month Celebration | $5
  Upper-Level TicketsTV: ESPN3
X-ALT-DESC;FMTTYPE=text/html:&lt;html&gt;&lt;head&gt;&lt;title&gt;&lt;/title&gt;&lt;/head&gt;&lt;body&gt;Misso
 uri State University Men's Basketball plays Belmont - KC Wolf Appearance 
 / Wear Chiefs Gear | Black History Month Celebration | $5 Upper-Level Tic
 kets&lt;br&gt;&lt;br&gt;TV: ESPN3&lt;/body&gt;&lt;/html&gt;
DTSTART;TZID=America/Chicago:20240203T130000
DTEND;TZID=America/Chicago:20240203T150000
SEQUENCE:1
URL:http://missouristatebears.com/index.aspx?path=mbball
CATEGORIES:Current Students,Future Students,Parents and Family,Alumni,
 Faculty,Staff,Community,Visitors,Athletics
END:VEVENT
END:VCALENDAR