BEGIN:VCALENDAR
VERSION:2.0
METHOD:PUBLISH
PRODID:-//Missouri State University/Calendar of Events//EN
CALSCALE:GREGORIAN
X-WR-TIMEZONE:America/Chicago
BEGIN:VTIMEZONE
TZID:America/Chicago
BEGIN:DAYLIGHT
TZOFFSETFROM:-0600
TZOFFSETTO:-0500
DTSTART:20070311T020000
RRULE:FREQ=YEARLY;BYMONTH=3;BYDAY=2SU
TZNAME:CDT
END:DAYLIGHT
BEGIN:STANDARD
TZOFFSETFROM:-0500
TZOFFSETTO:-0600
DTSTART:20071104T020000
RRULE:FREQ=YEARLY;BYMONTH=11;BYDAY=1SU
TZNAME:CST
END:STANDARD
END:VTIMEZONE
BEGIN:VEVENT
UID:7aae072f-8528-4766-91d3-e4f6433c9678.229579@calendar.missouristate.edu
CREATED:20230925T131607Z
LAST-MODIFIED:20230925T131607Z
LOCATION:Pummill Hall 305
SUMMARY:Bear Bridge: Faculty Success
DESCRIPTION:Learn how to utilize faculty success for your T&amp;P or yearly re
 view.
X-ALT-DESC;FMTTYPE=text/html:&lt;html&gt;&lt;head&gt;&lt;title&gt;&lt;/title&gt;&lt;/head&gt;&lt;body&gt;&lt;p&gt;Le
 arn how to utilize faculty success for your T&amp;amp\;P or yearly review.&lt;/p
 &gt;&lt;/body&gt;&lt;/html&gt;
DTSTART;TZID=America/Chicago:20231101T110000
DTEND;TZID=America/Chicago:20231101T130000
SEQUENCE:0
URL:https://www.missouristate.edu/Provost/BearBridge/default.htm
CATEGORIES:Faculty
END:VEVENT
END:VCALENDAR