BEGIN:VCALENDAR
VERSION:2.0
METHOD:PUBLISH
PRODID:-//Missouri State University/Calendar of Events//EN
CALSCALE:GREGORIAN
X-WR-TIMEZONE:America/Chicago
BEGIN:VTIMEZONE
TZID:America/Chicago
BEGIN:DAYLIGHT
TZOFFSETFROM:-0600
TZOFFSETTO:-0500
DTSTART:20070311T020000
RRULE:FREQ=YEARLY;BYMONTH=3;BYDAY=2SU
TZNAME:CDT
END:DAYLIGHT
BEGIN:STANDARD
TZOFFSETFROM:-0500
TZOFFSETTO:-0600
DTSTART:20071104T020000
RRULE:FREQ=YEARLY;BYMONTH=11;BYDAY=1SU
TZNAME:CST
END:STANDARD
END:VTIMEZONE
BEGIN:VEVENT
UID:a4f86029-f174-4ea0-adc2-9a77651a1e17.229583@calendar.missouristate.edu
CREATED:20230925T204306Z
LAST-MODIFIED:20230925T204306Z
LOCATION:Davis-Harrington Welcome Center
SUMMARY:Meet and Greet Reception to Visit with Administrative Council and 
 Deans
DESCRIPTION:This reception will be a follow-up to the State of the Univers
 ity event\, allowing the community\, students\, staff and faculty to visi
 t with our leadership teams.  
X-ALT-DESC;FMTTYPE=text/html:&lt;html&gt;&lt;head&gt;&lt;title&gt;&lt;/title&gt;&lt;/head&gt;&lt;body&gt;&lt;p&gt;Th
 is reception will be a follow-up to the State of the University event\, a
 llowing the community\, students\, staff and faculty to visit with our le
 adership teams. &amp;nbsp\;&lt;/p&gt;\n&lt;p&gt;&lt;/p&gt;&lt;/body&gt;&lt;/html&gt;
DTSTART;TZID=America/Chicago:20231002T160000
DTEND;TZID=America/Chicago:20231002T173000
SEQUENCE:0
URL:
CATEGORIES:Public,Current Students,Faculty,Staff
END:VEVENT
END:VCALENDAR