BEGIN:VCALENDAR
VERSION:2.0
METHOD:PUBLISH
PRODID:-//Missouri State University/Calendar of Events//EN
CALSCALE:GREGORIAN
X-WR-TIMEZONE:America/Chicago
BEGIN:VTIMEZONE
TZID:America/Chicago
BEGIN:DAYLIGHT
TZOFFSETFROM:-0600
TZOFFSETTO:-0500
DTSTART:20070311T020000
RRULE:FREQ=YEARLY;BYMONTH=3;BYDAY=2SU
TZNAME:CDT
END:DAYLIGHT
BEGIN:STANDARD
TZOFFSETFROM:-0500
TZOFFSETTO:-0600
DTSTART:20071104T020000
RRULE:FREQ=YEARLY;BYMONTH=11;BYDAY=1SU
TZNAME:CST
END:STANDARD
END:VTIMEZONE
BEGIN:VEVENT
UID:890ac702-af6b-4a28-a903-d74d632256df.229584@calendar.missouristate.edu
CREATED:20231003T202930Z
LAST-MODIFIED:20231003T202930Z
LOCATION:Meyer Library\, Duane G. 101
SUMMARY:Democracy Conversation Series 
DESCRIPTION:The Department of Political Science and Philosophy has launche
 d a speaker series conversation event focused on the question/topic of "I
 s American Democracy in Crisis?" The series is characterized as a “conver
 sation” because each event will feature two experts with differing opinio
 ns presenting their views about the question.\n\n\nThe first event of the
  series kicks off Oct. 26 with speakers Dr. Thomas Powers and Dr. Jennife
 r McCoy. Powers and McCoy are professors of political science at Carthage
  College and Georgia State University\, respectively.
X-ALT-DESC;FMTTYPE=text/html:&lt;html&gt;&lt;head&gt;&lt;title&gt;&lt;/title&gt;&lt;/head&gt;&lt;body&gt;&lt;p&gt;&lt;s
 pan&gt;The Department of Political Science and Philosophy has launched a spe
 aker series conversation event focused on the question/topic of "Is Ameri
 can Democracy in Crisis?" The series is characterized as a “conversation”
  because each event will feature two experts with differing opinions pres
 enting their views about the question.&lt;/span&gt;&lt;/p&gt;\n&lt;p&gt;&lt;span&gt;The first eve
 nt of the series kicks off Oct. 26 with speakers Dr. Thomas Powers and Dr
 . Jennifer McCoy. Powers and McCoy are professors of political science at
  Carthage College and Georgia State University\, respectively. &lt;/span&gt;&lt;/p
 &gt;&lt;/body&gt;&lt;/html&gt;
DTSTART;TZID=America/Chicago:20231026T153000
DTEND;TZID=America/Chicago:20231026T180000
SEQUENCE:0
URL:https://blogs.missouristate.edu/reynolds/2023/09/20/political-science-
 and-philosophy-department-launches-new-conversation-series/
CATEGORIES:Public,Alumni,Current Students,Faculty,Staff
END:VEVENT
END:VCALENDAR