BEGIN:VCALENDAR
VERSION:2.0
METHOD:PUBLISH
PRODID:-//Missouri State University/Calendar of Events//EN
CALSCALE:GREGORIAN
X-WR-TIMEZONE:America/Chicago
BEGIN:VTIMEZONE
TZID:America/Chicago
BEGIN:DAYLIGHT
TZOFFSETFROM:-0600
TZOFFSETTO:-0500
DTSTART:20070311T020000
RRULE:FREQ=YEARLY;BYMONTH=3;BYDAY=2SU
TZNAME:CDT
END:DAYLIGHT
BEGIN:STANDARD
TZOFFSETFROM:-0500
TZOFFSETTO:-0600
DTSTART:20071104T020000
RRULE:FREQ=YEARLY;BYMONTH=11;BYDAY=1SU
TZNAME:CST
END:STANDARD
END:VTIMEZONE
BEGIN:VEVENT
UID:302c5e74-0725-4b16-993c-1d5ae6dd430d.229586@calendar.missouristate.edu
CREATED:20230926T163325Z
LAST-MODIFIED:20230926T163325Z
LOCATION:Plaster Student Union\, Robert W.
SUMMARY:The Book of Mormon Experiment
DESCRIPTION:This is an interactive experiment on the Book of Mormon for al
 l students! It's designed to bring general positivity on campus!
X-ALT-DESC;FMTTYPE=text/html:&lt;html&gt;&lt;head&gt;&lt;title&gt;&lt;/title&gt;&lt;/head&gt;&lt;body&gt;&lt;p&gt;Th
 is is an interactive experiment on the Book of Mormon for all students! I
 t's designed to bring general positivity on campus!&lt;/p&gt;&lt;/body&gt;&lt;/html&gt;
DTSTART;TZID=America/Chicago:20231019T110000
DTEND;TZID=America/Chicago:20231019T130000
SEQUENCE:0
URL:https://calendar.missouristate.edu/viewevent.aspx?eventid=120250&amp;occur
 renceid=229586
CATEGORIES:Public,Current Students
END:VEVENT
END:VCALENDAR