BEGIN:VCALENDAR
VERSION:2.0
METHOD:PUBLISH
PRODID:-//Missouri State University/Calendar of Events//EN
CALSCALE:GREGORIAN
X-WR-TIMEZONE:America/Chicago
BEGIN:VTIMEZONE
TZID:America/Chicago
BEGIN:DAYLIGHT
TZOFFSETFROM:-0600
TZOFFSETTO:-0500
DTSTART:20070311T020000
RRULE:FREQ=YEARLY;BYMONTH=3;BYDAY=2SU
TZNAME:CDT
END:DAYLIGHT
BEGIN:STANDARD
TZOFFSETFROM:-0500
TZOFFSETTO:-0600
DTSTART:20071104T020000
RRULE:FREQ=YEARLY;BYMONTH=11;BYDAY=1SU
TZNAME:CST
END:STANDARD
END:VTIMEZONE
BEGIN:VEVENT
UID:20033c77-e402-418e-b5e6-31d488126977.229589@calendar.missouristate.edu
CREATED:20230926T144108Z
LAST-MODIFIED:20230926T144108Z
LOCATION:Plaster Student Union\, Robert W. Ballroom West
SUMMARY:MSU Way and United Way Campaigns Celebration Luncheon
DESCRIPTION:This luncheon is for MSU faculty and staff who participate in 
 the 2023-24 MSU Way and United Way campaigns with a donation or rollover 
 donation.\n\n\nIn addition to announcing the recipients of the two reserv
 ed parking spots on campus\, those who attend the celebration will be ent
 ered into drawings for other prizes. \n\n\nPlease RSVP online so we can g
 et a head count for lunch.
X-ALT-DESC;FMTTYPE=text/html:&lt;html&gt;&lt;head&gt;&lt;title&gt;&lt;/title&gt;&lt;/head&gt;&lt;body&gt;&lt;p&gt;Th
 is luncheon is for MSU faculty and staff who participate in the 2023-24&amp;n
 bsp\;&lt;a href="https://www.missouristate.edu/UnitedWayCampaign/default.htm
 "&gt;MSU Way and United Way&lt;/a&gt; campaigns with a donation or rollover donati
 on.&lt;/p&gt;\n&lt;p&gt;In addition to&amp;nbsp\;announcing the recipients of the two res
 erved parking spots on campus\,&amp;nbsp\;those who attend the celebration wi
 ll be entered into drawings for other prizes. &lt;/p&gt;\n&lt;p&gt;Please&amp;nbsp\;&lt;a hr
 ef="https://www.missouristate.edu/UnitedWayCampaign/rsvp-form.htm"&gt;RSVP o
 nline&lt;/a&gt; so we can get a head count for lunch.&lt;/p&gt;&lt;/body&gt;&lt;/html&gt;
DTSTART;TZID=America/Chicago:20231106T113000
DTEND;TZID=America/Chicago:20231106T130000
SEQUENCE:0
URL:https://www.missouristate.edu/UnitedWayCampaign/default.htm
CATEGORIES:Faculty,Staff
END:VEVENT
END:VCALENDAR