BEGIN:VCALENDAR
VERSION:2.0
METHOD:PUBLISH
PRODID:-//Missouri State University/Calendar of Events//EN
CALSCALE:GREGORIAN
X-WR-TIMEZONE:America/Chicago
BEGIN:VTIMEZONE
TZID:America/Chicago
BEGIN:DAYLIGHT
TZOFFSETFROM:-0600
TZOFFSETTO:-0500
DTSTART:20070311T020000
RRULE:FREQ=YEARLY;BYMONTH=3;BYDAY=2SU
TZNAME:CDT
END:DAYLIGHT
BEGIN:STANDARD
TZOFFSETFROM:-0500
TZOFFSETTO:-0600
DTSTART:20071104T020000
RRULE:FREQ=YEARLY;BYMONTH=11;BYDAY=1SU
TZNAME:CST
END:STANDARD
END:VTIMEZONE
BEGIN:VEVENT
UID:cc2dde24-a5dd-45e1-9d45-7371810e5790.229591@calendar.missouristate.edu
CREATED:20230926T194846Z
LAST-MODIFIED:20230926T194846Z
LOCATION:Allison Recreation Fields\, Betty and Bobby
SUMMARY:TC Women's Soccer Giveaway
DESCRIPTION:Traditions Council is giving away beanies at the Women's Socce
 r game to encourage attendance and support of our Women's Soccer Team. 
X-ALT-DESC;FMTTYPE=text/html:&lt;html&gt;&lt;head&gt;&lt;title&gt;&lt;/title&gt;&lt;/head&gt;&lt;body&gt;&lt;p&gt;Tr
 aditions Council is giving away beanies at the Women's Soccer game to enc
 ourage attendance and support of our Women's Soccer Team.&amp;nbsp\;&lt;/p&gt;&lt;/bod
 y&gt;&lt;/html&gt;
DTSTART;TZID=America/Chicago:20231005T183000
DTEND;TZID=America/Chicago:20231005T193000
SEQUENCE:0
URL:120255.jpg
CATEGORIES:Current Students
END:VEVENT
END:VCALENDAR