BEGIN:VCALENDAR
VERSION:2.0
METHOD:PUBLISH
PRODID:-//Missouri State University/Calendar of Events//EN
CALSCALE:GREGORIAN
X-WR-TIMEZONE:America/Chicago
BEGIN:VTIMEZONE
TZID:America/Chicago
BEGIN:DAYLIGHT
TZOFFSETFROM:-0600
TZOFFSETTO:-0500
DTSTART:20070311T020000
RRULE:FREQ=YEARLY;BYMONTH=3;BYDAY=2SU
TZNAME:CDT
END:DAYLIGHT
BEGIN:STANDARD
TZOFFSETFROM:-0500
TZOFFSETTO:-0600
DTSTART:20071104T020000
RRULE:FREQ=YEARLY;BYMONTH=11;BYDAY=1SU
TZNAME:CST
END:STANDARD
END:VTIMEZONE
BEGIN:VEVENT
UID:ee5f3b48-37db-44d6-aaf3-d993866e1b3e.229592@calendar.missouristate.edu
CREATED:20230926T195027Z
LAST-MODIFIED:20230926T195027Z
LOCATION:Plaster Stadium\, Robert W.
SUMMARY:TC Food on the Clif
DESCRIPTION:Join TC on the Clif of the student section for free food at th
 e MSU football game! 
X-ALT-DESC;FMTTYPE=text/html:&lt;html&gt;&lt;head&gt;&lt;title&gt;&lt;/title&gt;&lt;/head&gt;&lt;body&gt;&lt;p&gt;Jo
 in TC on the Clif of the student section for free food at the MSU footbal
 l game!&amp;nbsp\;&lt;/p&gt;&lt;/body&gt;&lt;/html&gt;
DTSTART;TZID=America/Chicago:20231007T130000
DTEND;TZID=America/Chicago:20231007T150000
SEQUENCE:0
URL:120256.jpg
CATEGORIES:Current Students
END:VEVENT
END:VCALENDAR