BEGIN:VCALENDAR
VERSION:2.0
METHOD:PUBLISH
PRODID:-//Missouri State University/Calendar of Events//EN
CALSCALE:GREGORIAN
X-WR-TIMEZONE:America/Chicago
BEGIN:VTIMEZONE
TZID:America/Chicago
BEGIN:DAYLIGHT
TZOFFSETFROM:-0600
TZOFFSETTO:-0500
DTSTART:20070311T020000
RRULE:FREQ=YEARLY;BYMONTH=3;BYDAY=2SU
TZNAME:CDT
END:DAYLIGHT
BEGIN:STANDARD
TZOFFSETFROM:-0500
TZOFFSETTO:-0600
DTSTART:20071104T020000
RRULE:FREQ=YEARLY;BYMONTH=11;BYDAY=1SU
TZNAME:CST
END:STANDARD
END:VTIMEZONE
BEGIN:VEVENT
UID:db83e0a4-9e24-4732-8b54-0171832366d4.229596@calendar.missouristate.edu
CREATED:20230927T163924Z
LAST-MODIFIED:20230927T163924Z
LOCATION:Plaster Student Union\, Robert W. 309
SUMMARY:Faculty-Directed Education Abroad Program Pre-Departure Orientatio
 n 
DESCRIPTION:Faculty education abroad program directors for January 2024 an
 d March 2024 programs are required to attend a pre-departure orientation 
 to review the last three phases of directing a faculty-led program: Prep\
 , Lead\, and Review. Please RSVP using this form by October 31\, 2023. Re
 freshments will be provided. 
X-ALT-DESC;FMTTYPE=text/html:&lt;html&gt;&lt;head&gt;&lt;title&gt;&lt;/title&gt;&lt;/head&gt;&lt;body&gt;&lt;p&gt;Fa
 culty education abroad program directors for January 2024 and March 2024 
 programs are required to attend a pre-departure orientation to review the
  last three phases of directing a faculty-led program: Prep\, Lead\, and 
 Review. Please RSVP using&amp;nbsp\;&lt;a href="https://forms.office.com/Pages/R
 esponsePage.aspx?id=5DDYyk9VYUO65chlIz-3fx8HngifAdpCnp6YYIh-RidUMlFLOU9VW
 jhYTFJLSEdVSjFROU9MVVFWWS4u&amp;amp\;wdLOR=cFFA1B9C3-CD16-4391-87DA-102847374
 4A2"&gt;this form&lt;/a&gt; by October 31\, 2023. Refreshments will be provided.&amp;n
 bsp\;&lt;/p&gt;&lt;/body&gt;&lt;/html&gt;
DTSTART;TZID=America/Chicago:20231113T090000
DTEND;TZID=America/Chicago:20231113T103000
SEQUENCE:0
URL:https://international.missouristate.edu/educationabroad/
CATEGORIES:Faculty
END:VEVENT
END:VCALENDAR