BEGIN:VCALENDAR
VERSION:2.0
METHOD:PUBLISH
PRODID:-//Missouri State University/Calendar of Events//EN
CALSCALE:GREGORIAN
X-WR-TIMEZONE:America/Chicago
BEGIN:VTIMEZONE
TZID:America/Chicago
BEGIN:DAYLIGHT
TZOFFSETFROM:-0600
TZOFFSETTO:-0500
DTSTART:20070311T020000
RRULE:FREQ=YEARLY;BYMONTH=3;BYDAY=2SU
TZNAME:CDT
END:DAYLIGHT
BEGIN:STANDARD
TZOFFSETFROM:-0500
TZOFFSETTO:-0600
DTSTART:20071104T020000
RRULE:FREQ=YEARLY;BYMONTH=11;BYDAY=1SU
TZNAME:CST
END:STANDARD
END:VTIMEZONE
BEGIN:VEVENT
UID:93203a37-d381-4554-aa00-3439e7f1c4f8_10073@calendar.missouristate.edu
CREATED:20231005T162109Z
LAST-MODIFIED:20231005T162109Z
LOCATION:Ann Kampeter Health Sciences Hall Room location varies\, informat
 ion sent upon registration
SUMMARY:Explore the Health Sciences
DESCRIPTION:Come explore hands-on with faculty and students in assorted ma
 jors and learn about their respective healthcare career fields!\n\n\nUnde
 cided/undeclared students are welcome as well as declared students. If yo
 u've ever wanted to consider the health sciences\, this is a free\, no ob
 ligation way to come learn more and consider some different fields.\n\n\n
 AHEC is hosting this health science exploratory fall series through a MSS
 IP grant with the McQueary College of Health and Human Services (MCHHS).\
 n\n\nFields/majors to explore include:\n\n\n\nKinesiology - Oct. 10\, 4-5
 :30 p.m.\n\n\nBiomedical Sciences - Oct. 17\, 4-5:30 p.m.\n\n\nDietetics 
 - Oct. 19\, 4-5:30 p.m.\n\n\nAthletic Training and Sports Medicine - Oct.
  24\, 4-5:30 p.m.\n\n\nPhysician Assistant Studies - Nov. 14\, 4-5:30 p.m
 .\n\nRegister in advance.
X-ALT-DESC;FMTTYPE=text/html:&lt;html&gt;&lt;head&gt;&lt;title&gt;&lt;/title&gt;&lt;/head&gt;&lt;body&gt;&lt;p&gt;Co
 me explore hands-on with faculty and students in assorted majors and lear
 n about their respective healthcare career fields!&lt;/p&gt;\n&lt;p&gt;Undecided/unde
 clared students are welcome as well as declared students. If you've ever 
 wanted to consider the health sciences\, this is a free\, no obligation w
 ay to come learn more and consider some different fields.&lt;/p&gt;\n&lt;p&gt;AHEC is
  hosting this health science exploratory fall series through a MSSIP gran
 t with the McQueary College of Health and Human Services (MCHHS).&lt;/p&gt;\n&lt;p
 &gt;Fields/majors to explore include:&lt;/p&gt;\n&lt;ul&gt;\n&lt;li&gt;Kinesiology - Oct. 10\,
  4-5:30 p.m.&lt;/li&gt;\n&lt;/ul&gt;\n&lt;ul&gt;\n&lt;li&gt;Biomedical Sciences - Oct. 17\, 4-5:3
 0 p.m.&lt;/li&gt;\n&lt;/ul&gt;\n&lt;ul&gt;\n&lt;li&gt;Dietetics - Oct. 19\, 4-5:30 p.m.&lt;/li&gt;\n&lt;/u
 l&gt;\n&lt;ul&gt;\n&lt;li&gt;Athletic Training and Sports Medicine - Oct. 24\, 4-5:30 p.
 m.&lt;/li&gt;\n&lt;/ul&gt;\n&lt;ul&gt;\n&lt;li&gt;Physician Assistant Studies - Nov. 14\, 4-5:30 
 p.m.&lt;/li&gt;\n&lt;/ul&gt;\n&lt;p&gt;&lt;a href="https://atsu.co1.qualtrics.com/jfe/form/SV_
 0vp2XDVz7g4r9XM"&gt;Register in advance&lt;/a&gt;. &lt;/p&gt;&lt;/body&gt;&lt;/html&gt;
DTSTART;TZID=America/Chicago:20231010T160000
DTEND;TZID=America/Chicago:20231010T173000
RRULE:FREQ=WEEKLY;BYDAY=MO;UNTIL=20231115
EXDATE;TZID=America/Chicago:20231031T160000
EXDATE;TZID=America/Chicago:20231107T160000
SEQUENCE:5
URL:
CATEGORIES:Public,Current Students,Future Students
END:VEVENT
END:VCALENDAR