BEGIN:VCALENDAR
VERSION:2.0
METHOD:PUBLISH
PRODID:-//Missouri State University/Calendar of Events//EN
CALSCALE:GREGORIAN
X-WR-TIMEZONE:America/Chicago
BEGIN:VTIMEZONE
TZID:America/Chicago
BEGIN:DAYLIGHT
TZOFFSETFROM:-0600
TZOFFSETTO:-0500
DTSTART:20070311T020000
RRULE:FREQ=YEARLY;BYMONTH=3;BYDAY=2SU
TZNAME:CDT
END:DAYLIGHT
BEGIN:STANDARD
TZOFFSETFROM:-0500
TZOFFSETTO:-0600
DTSTART:20071104T020000
RRULE:FREQ=YEARLY;BYMONTH=11;BYDAY=1SU
TZNAME:CST
END:STANDARD
END:VTIMEZONE
BEGIN:VEVENT
UID:b209d3e8-e618-41df-ae5b-4f23c3a1da4c.229607@calendar.missouristate.edu
CREATED:20230929T051506Z
LAST-MODIFIED:20230929T051506Z
LOCATION:Houston\, Texas
SUMMARY:Missouri State University Men's Golf at Bentwater Intercollegiate
DESCRIPTION:Missouri State University Men's Golf visits Bentwater Intercol
 legiate
X-ALT-DESC;FMTTYPE=text/html:&lt;html&gt;&lt;head&gt;&lt;title&gt;&lt;/title&gt;&lt;/head&gt;&lt;body&gt;Misso
 uri State University Men's Golf visits Bentwater Intercollegiate&lt;/body&gt;&lt;/
 html&gt;
DTSTART;VALUE=DATE:20240212
DTEND;VALUE=DATE:20240213
SEQUENCE:0
URL:http://missouristatebears.com/index.aspx?path=mgolf
CATEGORIES:Current Students,Future Students,Parents and Family,Alumni,
 Faculty,Staff,Community,Visitors,Athletics
END:VEVENT
END:VCALENDAR