BEGIN:VCALENDAR
VERSION:2.0
METHOD:PUBLISH
PRODID:-//Missouri State University/Calendar of Events//EN
CALSCALE:GREGORIAN
X-WR-TIMEZONE:America/Chicago
BEGIN:VTIMEZONE
TZID:America/Chicago
BEGIN:DAYLIGHT
TZOFFSETFROM:-0600
TZOFFSETTO:-0500
DTSTART:20070311T020000
RRULE:FREQ=YEARLY;BYMONTH=3;BYDAY=2SU
TZNAME:CDT
END:DAYLIGHT
BEGIN:STANDARD
TZOFFSETFROM:-0500
TZOFFSETTO:-0600
DTSTART:20071104T020000
RRULE:FREQ=YEARLY;BYMONTH=11;BYDAY=1SU
TZNAME:CST
END:STANDARD
END:VTIMEZONE
BEGIN:VEVENT
UID:efae529a-6013-4e17-a177-456a34076823.229615@calendar.missouristate.edu
CREATED:20231012T200456Z
LAST-MODIFIED:20231012T200456Z
LOCATION:Plaster Student Union\, Robert W.
SUMMARY:Stop the Violence Conference
DESCRIPTION:A community call to action to end domestic and family violence
 .\n\n\nAttend in person or virtually for free.\n\n\nRegister online.
X-ALT-DESC;FMTTYPE=text/html:&lt;html&gt;&lt;head&gt;&lt;title&gt;&lt;/title&gt;&lt;/head&gt;&lt;body&gt;&lt;p&gt;A 
 community call to action to end domestic and family violence.&lt;/p&gt;\n&lt;p&gt;Att
 end in person or virtually for free.&lt;/p&gt;\n&lt;p&gt;&lt;a href="https://aceware.mis
 souristate.edu/wconnect/ShowSchedule.awp?Group=STV&amp;amp\;Title=Stop+the+Vi
 olence+Conference"&gt;Register online&lt;/a&gt;.&lt;/p&gt;&lt;/body&gt;&lt;/html&gt;
DTSTART;VALUE=DATE:20231018
DTEND;VALUE=DATE:20231019
SEQUENCE:0
URL:https://aceware.missouristate.edu/wconnect/ShowSchedule.awp?Group=STV&amp;
 Title=Stop+the+Violence+Conference
CATEGORIES:Public,Alumni,Current Students,Faculty,Staff
END:VEVENT
END:VCALENDAR