BEGIN:VCALENDAR
VERSION:2.0
METHOD:PUBLISH
PRODID:-//Missouri State University/Calendar of Events//EN
CALSCALE:GREGORIAN
X-WR-TIMEZONE:America/Chicago
BEGIN:VTIMEZONE
TZID:America/Chicago
BEGIN:DAYLIGHT
TZOFFSETFROM:-0600
TZOFFSETTO:-0500
DTSTART:20070311T020000
RRULE:FREQ=YEARLY;BYMONTH=3;BYDAY=2SU
TZNAME:CDT
END:DAYLIGHT
BEGIN:STANDARD
TZOFFSETFROM:-0500
TZOFFSETTO:-0600
DTSTART:20071104T020000
RRULE:FREQ=YEARLY;BYMONTH=11;BYDAY=1SU
TZNAME:CST
END:STANDARD
END:VTIMEZONE
BEGIN:VEVENT
UID:8a87ee9a-96dc-4a1a-bc90-f397db131a3c_11073@calendar.missouristate.edu
CREATED:20231003T152014Z
LAST-MODIFIED:20231003T152014Z
LOCATION:O’Reilly Clinical Health Sciences Center
SUMMARY:National PA Week
DESCRIPTION:Help us celebrate Physician Assistants by recognizing National
  PA Week from October 6th to the 12th. We will be hosting events leading 
 up to PA Week such as free pancakes with PAncakes in the PArking Lot near
  O'Reilly Clinical Health Sciences Center on Thursday October 5th from 7:
 30 AM to 9:30 AM.
X-ALT-DESC;FMTTYPE=text/html:&lt;html&gt;&lt;head&gt;&lt;title&gt;&lt;/title&gt;&lt;/head&gt;&lt;body&gt;&lt;p&gt;He
 lp us celebrate Physician Assistants by recognizing National PA Week from
  October 6th to the 12th. We will be hosting events leading up to PA Week
  such as free pancakes with PAncakes in the PArking Lot near O'Reilly Cli
 nical Health Sciences Center on Thursday October 5th from 7:30 AM to 9:30
  AM.&lt;/p&gt;&lt;/body&gt;&lt;/html&gt;
DTSTART;VALUE=DATE:20231006
DTEND;VALUE=DATE:20231007
RRULE:FREQ=DAILY;UNTIL=20231013
SEQUENCE:0
URL:https://calendar.missouristate.edu/viewevent.aspx?eventid=121262
CATEGORIES:Public,Current Students
END:VEVENT
END:VCALENDAR