BEGIN:VCALENDAR
VERSION:2.0
METHOD:PUBLISH
PRODID:-//Missouri State University/Calendar of Events//EN
CALSCALE:GREGORIAN
X-WR-TIMEZONE:America/Chicago
BEGIN:VTIMEZONE
TZID:America/Chicago
BEGIN:DAYLIGHT
TZOFFSETFROM:-0600
TZOFFSETTO:-0500
DTSTART:20070311T020000
RRULE:FREQ=YEARLY;BYMONTH=3;BYDAY=2SU
TZNAME:CDT
END:DAYLIGHT
BEGIN:STANDARD
TZOFFSETFROM:-0500
TZOFFSETTO:-0600
DTSTART:20071104T020000
RRULE:FREQ=YEARLY;BYMONTH=11;BYDAY=1SU
TZNAME:CST
END:STANDARD
END:VTIMEZONE
BEGIN:VEVENT
UID:85108b6e-67a2-4123-943a-1ea8aae7f4cb.230611@calendar.missouristate.edu
CREATED:20231005T232323Z
LAST-MODIFIED:20231005T232323Z
LOCATION:West Mall (Carrington)
SUMMARY:Voting Fair 
DESCRIPTION:Paws to the Polls will host our second annual Voting Fair on t
 he West Lawn\, between McDonald Arena and Plaster Stadium. Students can m
 eet with elected officials from the Springfield area and engage with on-c
 ampus organizations while enjoying free food and games.
X-ALT-DESC;FMTTYPE=text/html:&lt;html&gt;&lt;head&gt;&lt;title&gt;&lt;/title&gt;&lt;/head&gt;&lt;body&gt;&lt;p&gt;Pa
 ws to the Polls will host our second annual Voting Fair on the West Lawn\
 , between McDonald Arena and Plaster Stadium. Students can meet with elec
 ted officials from the Springfield area and engage with on-campus organiz
 ations while enjoying free food and games.&lt;/p&gt;&lt;/body&gt;&lt;/html&gt;
DTSTART;TZID=America/Chicago:20231018T110000
DTEND;TZID=America/Chicago:20231018T150000
SEQUENCE:0
URL:121266.png
CATEGORIES:Public
END:VEVENT
END:VCALENDAR