BEGIN:VCALENDAR
VERSION:2.0
METHOD:PUBLISH
PRODID:-//Missouri State University/Calendar of Events//EN
CALSCALE:GREGORIAN
X-WR-TIMEZONE:America/Chicago
BEGIN:VTIMEZONE
TZID:America/Chicago
BEGIN:DAYLIGHT
TZOFFSETFROM:-0600
TZOFFSETTO:-0500
DTSTART:20070311T020000
RRULE:FREQ=YEARLY;BYMONTH=3;BYDAY=2SU
TZNAME:CDT
END:DAYLIGHT
BEGIN:STANDARD
TZOFFSETFROM:-0500
TZOFFSETTO:-0600
DTSTART:20071104T020000
RRULE:FREQ=YEARLY;BYMONTH=11;BYDAY=1SU
TZNAME:CST
END:STANDARD
END:VTIMEZONE
BEGIN:VEVENT
UID:4642bedc-9261-48dd-92f9-fd73e0fd41f8.230638@calendar.missouristate.edu
CREATED:20231003T204259Z
LAST-MODIFIED:20231003T204259Z
LOCATION:
SUMMARY:Diversity: Differences that Brighten the World Exhibition
DESCRIPTION:Juried by an international panel\, this collection of selected
  posters is centered around the main topic of: What does Diversity mean t
 o you? The showcase focuses on our ability to embrace different cultures\
 , unusual belief systems and opposing points of view on a variety of subj
 ects\, thus making us more tolerant of those different from us.\n\n\nDive
 rsity: Differences that Brighten the World will be open Oct. 6-Nov. 10 at
  the Carolla Arts Exhibition Center. We will also be open for First Frida
 y Art Walk on Oct. 6 and Nov. 3\, 6-9 p.m.
X-ALT-DESC;FMTTYPE=text/html:&lt;html&gt;&lt;head&gt;&lt;title&gt;&lt;/title&gt;&lt;/head&gt;&lt;body&gt;&lt;p&gt;Ju
 ried by an international panel\, this collection of selected posters is c
 entered around the main topic of: What does Diversity mean to you? The sh
 owcase focuses on our ability to embrace different cultures\, unusual bel
 ief systems and opposing points of view on a variety of subjects\, thus m
 aking us more tolerant of those different from us.&lt;/p&gt;\n&lt;p&gt;Diversity: Dif
 ferences that Brighten the World will be open Oct. 6-Nov. 10 at the Carol
 la Arts Exhibition Center. We will also be open for First Friday Art Walk
  on Oct. 6 and Nov. 3\, 6-9 p.m.&lt;/p&gt;&lt;/body&gt;&lt;/html&gt;
DTSTART;TZID=America/Chicago:20231006T180000
DTEND;TZID=America/Chicago:20231006T210000
SEQUENCE:0
URL:https://galleries.missouristate.edu/Carolla/
CATEGORIES:Public,Alumni,Current Students,Faculty,Future Students,Staff
END:VEVENT
BEGIN:VEVENT
UID:4642bedc-9261-48dd-92f9-fd73e0fd41f8_11074@calendar.missouristate.edu
CREATED:20231003T204259Z
LAST-MODIFIED:20231003T204259Z
LOCATION:
SUMMARY:Diversity: Differences that Brighten the World Exhibition
DESCRIPTION:Juried by an international panel\, this collection of selected
  posters is centered around the main topic of: What does Diversity mean t
 o you? The showcase focuses on our ability to embrace different cultures\
 , unusual belief systems and opposing points of view on a variety of subj
 ects\, thus making us more tolerant of those different from us.\n\n\nDive
 rsity: Differences that Brighten the World will be open Oct. 6-Nov. 10 at
  the Carolla Arts Exhibition Center. We will also be open for First Frida
 y Art Walk on Oct. 6 and Nov. 3\, 6-9 p.m.
X-ALT-DESC;FMTTYPE=text/html:&lt;html&gt;&lt;head&gt;&lt;title&gt;&lt;/title&gt;&lt;/head&gt;&lt;body&gt;&lt;p&gt;Ju
 ried by an international panel\, this collection of selected posters is c
 entered around the main topic of: What does Diversity mean to you? The sh
 owcase focuses on our ability to embrace different cultures\, unusual bel
 ief systems and opposing points of view on a variety of subjects\, thus m
 aking us more tolerant of those different from us.&lt;/p&gt;\n&lt;p&gt;Diversity: Dif
 ferences that Brighten the World will be open Oct. 6-Nov. 10 at the Carol
 la Arts Exhibition Center. We will also be open for First Friday Art Walk
  on Oct. 6 and Nov. 3\, 6-9 p.m.&lt;/p&gt;&lt;/body&gt;&lt;/html&gt;
DTSTART;TZID=America/Chicago:20231006T110000
DTEND;TZID=America/Chicago:20231006T180000
RRULE:FREQ=WEEKLY;BYDAY=MO,TU,WE,TH,FR;UNTIL=20231111
SEQUENCE:0
URL:https://galleries.missouristate.edu/Carolla/
CATEGORIES:Public,Alumni,Current Students,Faculty,Future Students,Staff
END:VEVENT
END:VCALENDAR