BEGIN:VCALENDAR
VERSION:2.0
METHOD:PUBLISH
PRODID:-//Missouri State University/Calendar of Events//EN
CALSCALE:GREGORIAN
X-WR-TIMEZONE:America/Chicago
BEGIN:VTIMEZONE
TZID:America/Chicago
BEGIN:DAYLIGHT
TZOFFSETFROM:-0600
TZOFFSETTO:-0500
DTSTART:20070311T020000
RRULE:FREQ=YEARLY;BYMONTH=3;BYDAY=2SU
TZNAME:CDT
END:DAYLIGHT
BEGIN:STANDARD
TZOFFSETFROM:-0500
TZOFFSETTO:-0600
DTSTART:20071104T020000
RRULE:FREQ=YEARLY;BYMONTH=11;BYDAY=1SU
TZNAME:CST
END:STANDARD
END:VTIMEZONE
BEGIN:VEVENT
UID:6e1bfe80-0303-48ed-9111-335a3b4f2563.231643@calendar.missouristate.edu
CREATED:20231005T164244Z
LAST-MODIFIED:20231005T164244Z
LOCATION:Ann Kampeter Health Sciences Hall Exact room and details sent via
  email prior to event.
SUMMARY:Explore the Health Sciences - Nutrition and Dietetics
DESCRIPTION:Come explore hands-on with faculty and students in assorted ma
 jors and learn about their respective healthcare career fields.\n\n\nUnde
 cided/undeclared students are welcome\, as well as declared students. If 
 you've ever wanted to consider the health sciences\, this is a free\, no 
 obligation way to learn more and consider some different fields.\n\n\nThe
  Area Health Education Center is hosting this health science exploratory 
 fall series through a MSSIP grant with the McQueary College of Health and
  Human Services.\n\n\nFields/majors to explore include:\n\n\n\nKinesiolog
 y - Oct. 10\, 4-5:30 p.m.\nBiomedical Sciences - Oct. 17\, 4-5:30 p.m.\nD
 ietetics - Oct. 19\, 4-5:30 p.m.\nAthletic Training and Sports Medicine -
  Oct. 24\, 4-5:30 p.m.\nPhysician Assistant Studies - Nov. 14\, 4-5:30 p.
 m.\n\nRegister in advance.
X-ALT-DESC;FMTTYPE=text/html:&lt;html&gt;&lt;head&gt;&lt;title&gt;&lt;/title&gt;&lt;/head&gt;&lt;body&gt;&lt;p&gt;Co
 me explore hands-on with faculty and students in assorted majors and lear
 n about their respective healthcare career fields.&lt;/p&gt;\n&lt;p&gt;Undecided/unde
 clared students are welcome\, as well as declared students. If you've eve
 r wanted to consider the health sciences\, this is a free\, no obligation
  way to learn more and consider some different fields.&lt;/p&gt;\n&lt;p&gt;The Area H
 ealth Education Center is hosting this health science exploratory fall se
 ries through a MSSIP grant with the McQueary College of Health and Human 
 Services.&lt;/p&gt;\n&lt;p&gt;Fields/majors to explore include:&lt;/p&gt;\n&lt;ul&gt;\n&lt;li&gt;Kinesi
 ology - Oct. 10\, 4-5:30 p.m.&lt;/li&gt;\n&lt;li&gt;Biomedical Sciences - Oct. 17\, 4
 -5:30 p.m.&lt;/li&gt;\n&lt;li&gt;Dietetics - Oct. 19\, 4-5:30 p.m.&lt;/li&gt;\n&lt;li&gt;Athletic
  Training and Sports Medicine - Oct. 24\, 4-5:30 p.m.&lt;/li&gt;\n&lt;li&gt;Physician
  Assistant Studies - Nov. 14\, 4-5:30 p.m.&lt;/li&gt;\n&lt;/ul&gt;\n&lt;p&gt;&lt;a href="https
 ://atsu.co1.qualtrics.com/jfe/form/SV_0vp2XDVz7g4r9XM"&gt;Register in advanc
 e&lt;/a&gt;.&lt;/p&gt;&lt;/body&gt;&lt;/html&gt;
DTSTART;TZID=America/Chicago:20231019T160000
DTEND;TZID=America/Chicago:20231019T173000
SEQUENCE:0
URL:
CATEGORIES:Public,Current Students,Future Students
END:VEVENT
END:VCALENDAR