BEGIN:VCALENDAR
VERSION:2.0
METHOD:PUBLISH
PRODID:-//Missouri State University/Calendar of Events//EN
CALSCALE:GREGORIAN
X-WR-TIMEZONE:America/Chicago
BEGIN:VTIMEZONE
TZID:America/Chicago
BEGIN:DAYLIGHT
TZOFFSETFROM:-0600
TZOFFSETTO:-0500
DTSTART:20070311T020000
RRULE:FREQ=YEARLY;BYMONTH=3;BYDAY=2SU
TZNAME:CDT
END:DAYLIGHT
BEGIN:STANDARD
TZOFFSETFROM:-0500
TZOFFSETTO:-0600
DTSTART:20071104T020000
RRULE:FREQ=YEARLY;BYMONTH=11;BYDAY=1SU
TZNAME:CST
END:STANDARD
END:VTIMEZONE
BEGIN:VEVENT
UID:0dabbaa4-0c47-49c2-ac50-21871f9bbd1c.231644@calendar.missouristate.edu
CREATED:20231005T194850Z
LAST-MODIFIED:20231005T194850Z
LOCATION:Plaster Stadium\, Robert W. BearFest Village
SUMMARY:BearFest Village: Alumni Tailgate
DESCRIPTION:Relive the college days at the ultimate BearsFest Village tail
 gate event. Reconnect with fellow Bears\, share legendary stories and soa
 k in Bear pride over food\, drinks and games.
X-ALT-DESC;FMTTYPE=text/html:&lt;html&gt;&lt;head&gt;&lt;title&gt;&lt;/title&gt;&lt;/head&gt;&lt;body&gt;&lt;p&gt;Re
 live the college days at the ultimate BearsFest Village tailgate event. R
 econnect with fellow Bears\, share legendary stories and soak in Bear pri
 de over food\, drinks and games.&lt;/p&gt;\n&lt;p&gt;&lt;/p&gt;&lt;/body&gt;&lt;/html&gt;
DTSTART;TZID=America/Chicago:20231021T110000
DTEND;TZID=America/Chicago:20231021T140000
SEQUENCE:0
URL:https://alumni.missouristate.edu/homecoming/
CATEGORIES:Public,Alumni,Current Students,Faculty,Future Students,Staff
END:VEVENT
END:VCALENDAR