BEGIN:VCALENDAR
VERSION:2.0
METHOD:PUBLISH
PRODID:-//Missouri State University/Calendar of Events//EN
CALSCALE:GREGORIAN
X-WR-TIMEZONE:America/Chicago
BEGIN:VTIMEZONE
TZID:America/Chicago
BEGIN:DAYLIGHT
TZOFFSETFROM:-0600
TZOFFSETTO:-0500
DTSTART:20070311T020000
RRULE:FREQ=YEARLY;BYMONTH=3;BYDAY=2SU
TZNAME:CDT
END:DAYLIGHT
BEGIN:STANDARD
TZOFFSETFROM:-0500
TZOFFSETTO:-0600
DTSTART:20071104T020000
RRULE:FREQ=YEARLY;BYMONTH=11;BYDAY=1SU
TZNAME:CST
END:STANDARD
END:VTIMEZONE
BEGIN:VEVENT
UID:c1b95d3d-9589-48b8-8c36-7389618f6069.231679@calendar.missouristate.edu
CREATED:20231011T173524Z
LAST-MODIFIED:20231011T173524Z
LOCATION:https://us02web.zoom.us/j/86388732559
SUMMARY:Public Affairs Talks!  Using Fuse to Spark Conversations in the Cl
 assroom\, Work Setting or Student Organization
DESCRIPTION:Working together to change the world\, one conversation at a t
 ime.\n \nLearn how faculty\, staff and students are incorporating Fuse ac
 ross Missouri State University to increase inclusivity\, cultural compete
 nce and cultural awareness. The goal of Fuse is to reduce and prevent vio
 lence in the community. This program encourages people to spark connectio
 ns through conversations and offers resources for navigating polarizing t
 opics. Using a combination of activities\, multimedia and in-person train
 ing\, Fuse promotes understanding\, awareness and engagement.\n \n\nModer
 ated by: Dr. Kathy Nordyke\, director\, Citizenship and Service-Learning\
 n\n\nJoin via Zoom or visit the Public Affairs Talks! webpage.\n\n\nStaff
  and faculty may track their attendance at this session through My Learni
 ng Connection\; however\, no registration is required to attend this sess
 ion. 
X-ALT-DESC;FMTTYPE=text/html:&lt;html&gt;&lt;head&gt;&lt;title&gt;&lt;/title&gt;&lt;/head&gt;&lt;body&gt;&lt;div&gt;
 &lt;em&gt;&lt;strong&gt;Working together to change the world\, one conversation at a 
 time.&lt;/strong&gt;&lt;/em&gt;&lt;/div&gt;\n&lt;div&gt;&amp;nbsp\;&lt;/div&gt;\n&lt;div&gt;Learn how faculty\, s
 taff and students are incorporating Fuse across Missouri State University
  to increase inclusivity\, cultural competence and cultural awareness. Th
 e goal of Fuse is to reduce and prevent violence in the community. This p
 rogram encourages people to spark connections through conversations and o
 ffers resources for navigating polarizing topics. Using a combination of 
 activities\, multimedia and in-person training\, Fuse promotes understand
 ing\, awareness and engagement.&lt;/div&gt;\n&lt;div&gt;&amp;nbsp\;&lt;/div&gt;\n&lt;div&gt;\n&lt;p&gt;&lt;str
 ong&gt;Moderated by:&lt;/strong&gt; Dr. Kathy Nordyke\, director\, Citizenship and
  Service-Learning&lt;/p&gt;\n&lt;p&gt;&lt;a href="https://us02web.zoom.us/j/86388732559#
 success"&gt;Join via Zoom&lt;/a&gt;&amp;nbsp\;or visit the &lt;a href="https://publicaffa
 irs.missouristate.edu/public-affairs-talks.htm"&gt;Public Affairs Talks! web
 page&lt;/a&gt;.&lt;/p&gt;\n&lt;p&gt;Staff and faculty may track their attendance at this se
 ssion through My Learning Connection\; however\, no registration is requi
 red to attend this session.&amp;nbsp\;&lt;/p&gt;\n&lt;/div&gt;&lt;/body&gt;&lt;/html&gt;
DTSTART;TZID=America/Chicago:20231024T153000
DTEND;TZID=America/Chicago:20231024T163000
SEQUENCE:0
URL:https://publicaffairs.missouristate.edu/public-affairs-talks.htm
CATEGORIES:Public,Alumni,Current Students,Faculty,Staff
END:VEVENT
END:VCALENDAR