BEGIN:VCALENDAR
VERSION:2.0
METHOD:PUBLISH
PRODID:-//Missouri State University/Calendar of Events//EN
CALSCALE:GREGORIAN
X-WR-TIMEZONE:America/Chicago
BEGIN:VTIMEZONE
TZID:America/Chicago
BEGIN:DAYLIGHT
TZOFFSETFROM:-0600
TZOFFSETTO:-0500
DTSTART:20070311T020000
RRULE:FREQ=YEARLY;BYMONTH=3;BYDAY=2SU
TZNAME:CDT
END:DAYLIGHT
BEGIN:STANDARD
TZOFFSETFROM:-0500
TZOFFSETTO:-0600
DTSTART:20071104T020000
RRULE:FREQ=YEARLY;BYMONTH=11;BYDAY=1SU
TZNAME:CST
END:STANDARD
END:VTIMEZONE
BEGIN:VEVENT
UID:00000000-0000-0000-0000-000000000000.231683@calendar.missouristate.edu
CREATED:20231009T174549Z
LAST-MODIFIED:20231009T174549Z
LOCATION:To Be Determined
SUMMARY:Bear Battalion Ball
DESCRIPTION:Celebrate the proud tradition of the 71st annual Bear Battalio
 n Ball on Nov. 10. Experience the presentation of our Nation's colors\, a
  POW/MIA and fallen soldier tribute and enjoy the camaraderie of fellow f
 riends and Soldiers.
X-ALT-DESC;FMTTYPE=text/html:&lt;html&gt;&lt;head&gt;&lt;title&gt;&lt;/title&gt;&lt;/head&gt;&lt;body&gt;Celeb
 rate the proud tradition of the 71st annual Bear Battalion Ball on Nov. 1
 0. Experience the presentation of our Nation's colors\, a POW/MIA and fal
 len soldier tribute and enjoy the camaraderie of fellow friends and Soldi
 ers.&lt;/body&gt;&lt;/html&gt;
DTSTART;TZID=America/Chicago:20231110T170000
DTEND;TZID=America/Chicago:20231110T230000
SEQUENCE:0
URL:https://missouristate.imodules.com?sid=1691&amp;gid=2&amp;pgid=3386&amp;cid=5882&amp;e
 cid=5882&amp;ciid=19886&amp;crid=0
CATEGORIES:Public,Alumni,Parents and Family,Visitors
END:VEVENT
END:VCALENDAR