BEGIN:VCALENDAR
VERSION:2.0
METHOD:PUBLISH
PRODID:-//Missouri State University/Calendar of Events//EN
CALSCALE:GREGORIAN
X-WR-TIMEZONE:America/Chicago
BEGIN:VTIMEZONE
TZID:America/Chicago
BEGIN:DAYLIGHT
TZOFFSETFROM:-0600
TZOFFSETTO:-0500
DTSTART:20070311T020000
RRULE:FREQ=YEARLY;BYMONTH=3;BYDAY=2SU
TZNAME:CDT
END:DAYLIGHT
BEGIN:STANDARD
TZOFFSETFROM:-0500
TZOFFSETTO:-0600
DTSTART:20071104T020000
RRULE:FREQ=YEARLY;BYMONTH=11;BYDAY=1SU
TZNAME:CST
END:STANDARD
END:VTIMEZONE
BEGIN:VEVENT
UID:618382b3-8ca6-4f57-8c55-fffd915726ea.231684@calendar.missouristate.edu
CREATED:20231011T185019Z
LAST-MODIFIED:20231011T185019Z
LOCATION:
SUMMARY:BeAR Crawl
DESCRIPTION:Young Alumni are encouraged to reunite during Homecoming weeke
 nd for the first-ever BeAR Crawl on Saturday\, October 21.\n\n\nThe crawl
  will visit several local bars\, each with its own distinct atmosphere.\n
 \n\nBeAR Crawl locations include some of the most popular venues in downt
 own Springfield.\n\n\nExperience live music\, play a variety of indoor an
 d outdoor games\, hit the dancefloor and enjoy an array of beverages from
  award-winning local brews to one-of-a-kind cocktails.\n\n\nFor $10\, you
 ng alumni and friends will receive a drink ticket at Springfield Brewing 
 Co. and a 15% discount at remaining participating locations (exceptions m
 ay apply).\n\n\nThe event will kick off with an Alumni Chapter mixer at S
 pringfield Brewing Co. at 7 p.m. where participants will receive a limite
 d-edition\, light-up bracelet and have the opportunity to meet with membe
 rs of their local alumni chapter\, affinity and/or constituency groups.\n
 \n\nRegister for Homecoming events and purchase your BeAR Crawl wristband.
X-ALT-DESC;FMTTYPE=text/html:&lt;html&gt;&lt;head&gt;&lt;title&gt;&lt;/title&gt;&lt;/head&gt;&lt;body&gt;&lt;p&gt;Yo
 ung Alumni are encouraged to reunite during Homecoming weekend for the fi
 rst-ever BeAR Crawl on Saturday\, October 21.&lt;/p&gt;\n&lt;p&gt;The crawl will visi
 t several local bars\, each with its own distinct atmosphere.&lt;/p&gt;\n&lt;p&gt;BeA
 R Crawl locations include some of the most popular venues in downtown Spr
 ingfield.&lt;/p&gt;\n&lt;p&gt;Experience live music\, play a variety of indoor and ou
 tdoor games\, hit the dancefloor and enjoy an array of beverages from awa
 rd-winning local brews to one-of-a-kind cocktails.&lt;/p&gt;\n&lt;p&gt;For $10\, youn
 g alumni and friends will receive a drink ticket at Springfield Brewing C
 o. and a 15% discount at remaining participating locations (exceptions ma
 y apply).&lt;/p&gt;\n&lt;p&gt;The event will kick off with an Alumni Chapter mixer at
  Springfield Brewing Co. at 7 p.m. where participants will receive a limi
 ted-edition\, light-up bracelet and have the opportunity to meet with mem
 bers of their local alumni chapter\, affinity and/or constituency groups.
 &lt;/p&gt;\n&lt;p&gt;Register for Homecoming events and purchase your BeAR Crawl wris
 tband.&lt;/p&gt;&lt;/body&gt;&lt;/html&gt;
DTSTART;TZID=America/Chicago:20231021T190000
DTEND;TZID=America/Chicago:20231021T230000
SEQUENCE:0
URL:https://alumni.missouristate.edu/homecoming/
CATEGORIES:Alumni,Faculty,Staff
END:VEVENT
END:VCALENDAR