BEGIN:VCALENDAR
VERSION:2.0
METHOD:PUBLISH
PRODID:-//Missouri State University/Calendar of Events//EN
CALSCALE:GREGORIAN
X-WR-TIMEZONE:America/Chicago
BEGIN:VTIMEZONE
TZID:America/Chicago
BEGIN:DAYLIGHT
TZOFFSETFROM:-0600
TZOFFSETTO:-0500
DTSTART:20070311T020000
RRULE:FREQ=YEARLY;BYMONTH=3;BYDAY=2SU
TZNAME:CDT
END:DAYLIGHT
BEGIN:STANDARD
TZOFFSETFROM:-0500
TZOFFSETTO:-0600
DTSTART:20071104T020000
RRULE:FREQ=YEARLY;BYMONTH=11;BYDAY=1SU
TZNAME:CST
END:STANDARD
END:VTIMEZONE
BEGIN:VEVENT
UID:d9f07612-45dd-4778-a78b-6a12f03d5a29.231690@calendar.missouristate.edu
CREATED:20231018T043120Z
LAST-MODIFIED:20231018T043120Z
LOCATION:Zoom
SUMMARY:Public Affairs Mission: What Does It Mean? Can you Relate? - Virtu
 al Workshop
DESCRIPTION:Learn to become a more engaged Citizen Bear by modeling the th
 ree pillars of the public affairs mission in this informative virtual wor
 kshop. As the university is educating students to become global scholars\
 , it is imperative that employees can communicate\, interconnect and prom
 ote the meaning of public affairs to students and the community.\n\n\nFac
 ilitator: Mary Ann Wood\, director\, Public Affairs Support
X-ALT-DESC;FMTTYPE=text/html:&lt;html&gt;&lt;head&gt;&lt;title&gt;&lt;/title&gt;&lt;/head&gt;&lt;body&gt;&lt;p&gt;&lt;s
 pan size="3" color="#0a0a0a"&gt;&lt;span&gt;Learn to become a more engaged Citizen
  Bear by modeling the three pillars of the public affairs mission in this
  informative virtual workshop. As the university is educating students to
  become global scholars\, it is imperative that employees can communicate
 \, interconnect and promote the meaning of public affairs to students and
  the community.&lt;/span&gt;&lt;/span&gt;&lt;/p&gt;\n&lt;p&gt;&lt;span size="3" color="#0a0a0a"&gt;&lt;spa
 n&gt;Facilitator: Mary Ann Wood\, director\, Public Affairs Support&lt;/span&gt;&lt;/
 span&gt;&lt;/p&gt;&lt;/body&gt;&lt;/html&gt;
DTSTART;TZID=America/Chicago:20231114T150000
DTEND;TZID=America/Chicago:20231114T160000
SEQUENCE:0
URL:https://blogs.missouristate.edu/human/2023/11/09/public-affairs-missio
 n-power-skills-series/
CATEGORIES:Faculty,Staff
END:VEVENT
END:VCALENDAR