BEGIN:VCALENDAR
VERSION:2.0
METHOD:PUBLISH
PRODID:-//Missouri State University/Calendar of Events//EN
CALSCALE:GREGORIAN
X-WR-TIMEZONE:America/Chicago
BEGIN:VTIMEZONE
TZID:America/Chicago
BEGIN:DAYLIGHT
TZOFFSETFROM:-0600
TZOFFSETTO:-0500
DTSTART:20070311T020000
RRULE:FREQ=YEARLY;BYMONTH=3;BYDAY=2SU
TZNAME:CDT
END:DAYLIGHT
BEGIN:STANDARD
TZOFFSETFROM:-0500
TZOFFSETTO:-0600
DTSTART:20071104T020000
RRULE:FREQ=YEARLY;BYMONTH=11;BYDAY=1SU
TZNAME:CST
END:STANDARD
END:VTIMEZONE
BEGIN:VEVENT
UID:986e7660-8a73-4f73-ac43-71ed8591e927.231692@calendar.missouristate.edu
CREATED:20231011T175943Z
LAST-MODIFIED:20231011T175943Z
LOCATION:Morris Center\, Jim D.
SUMMARY:Tour of the Globe: Hidden Gems
DESCRIPTION:Uncover hidden gems during International Program’s annual Tour
  of the Globe! Join our international students as they share beautiful si
 ghts and experiences from their hometowns all around the world. This even
 t serves as an opportunity for the Springfield community to connect with 
 our international students while showcasing the curiosity and engagement 
 of Springfield. This cultural bazaar includes food\, games and music\, an
 d is completely free to the community.\n\n\nCome uncover hidden gems and 
 become an experienced explorer with International Programs!  
X-ALT-DESC;FMTTYPE=text/html:&lt;html&gt;&lt;head&gt;&lt;title&gt;&lt;/title&gt;&lt;/head&gt;&lt;body&gt;&lt;p&gt;Un
 cover hidden gems during International Program’s annual Tour of the Globe
 ! Join our international students as they share beautiful sights and expe
 riences from their hometowns all around the world. This event serves as a
 n opportunity for the Springfield community to connect with our internati
 onal students while showcasing the curiosity and engagement of Springfiel
 d. This cultural bazaar includes food\, games and music\, and is complete
 ly free to the community.&lt;/p&gt;\n&lt;p&gt;Come uncover hidden gems and become an 
 experienced explorer with International Programs! &amp;nbsp\;&lt;/p&gt;&lt;/body&gt;&lt;/htm
 l&gt;
DTSTART;TZID=America/Chicago:20231103T170000
DTEND;TZID=America/Chicago:20231103T203000
SEQUENCE:0
URL:122288.png
CATEGORIES:Public,Alumni,Current Students,Faculty,Future Students,Staff
END:VEVENT
END:VCALENDAR