BEGIN:VCALENDAR
VERSION:2.0
METHOD:PUBLISH
PRODID:-//Missouri State University/Calendar of Events//EN
CALSCALE:GREGORIAN
X-WR-TIMEZONE:America/Chicago
BEGIN:VTIMEZONE
TZID:America/Chicago
BEGIN:DAYLIGHT
TZOFFSETFROM:-0600
TZOFFSETTO:-0500
DTSTART:20070311T020000
RRULE:FREQ=YEARLY;BYMONTH=3;BYDAY=2SU
TZNAME:CDT
END:DAYLIGHT
BEGIN:STANDARD
TZOFFSETFROM:-0500
TZOFFSETTO:-0600
DTSTART:20071104T020000
RRULE:FREQ=YEARLY;BYMONTH=11;BYDAY=1SU
TZNAME:CST
END:STANDARD
END:VTIMEZONE
BEGIN:VEVENT
UID:e9872e9c-650f-4099-ac03-028fc121a792.231720@calendar.missouristate.edu
CREATED:20231011T201552Z
LAST-MODIFIED:20231011T201552Z
LOCATION:Roy Blunt Hall 143
SUMMARY:Biology Seminar: "Freshwater Mussel Conservation and Restoration i
 n the Osage River Basin of Missouri and Kansas"
DESCRIPTION:By: Bryan Simmons - U.S. Fish and Wildlife Service
X-ALT-DESC;FMTTYPE=text/html:&lt;html&gt;&lt;head&gt;&lt;title&gt;&lt;/title&gt;&lt;/head&gt;&lt;body&gt;&lt;p&gt;By
 : Bryan Simmons - U.S. Fish and Wildlife Service&lt;/p&gt;&lt;/body&gt;&lt;/html&gt;
DTSTART;TZID=America/Chicago:20231201T160000
DTEND;TZID=America/Chicago:20231201T170000
SEQUENCE:0
URL:https://biology.missouristate.edu/biology-seminar-schedule.htm
CATEGORIES:Public,Alumni,Current Students,Faculty,Future Students,Staff
END:VEVENT
END:VCALENDAR