BEGIN:VCALENDAR
VERSION:2.0
METHOD:PUBLISH
PRODID:-//Missouri State University/Calendar of Events//EN
CALSCALE:GREGORIAN
X-WR-TIMEZONE:America/Chicago
BEGIN:VTIMEZONE
TZID:America/Chicago
BEGIN:DAYLIGHT
TZOFFSETFROM:-0600
TZOFFSETTO:-0500
DTSTART:20070311T020000
RRULE:FREQ=YEARLY;BYMONTH=3;BYDAY=2SU
TZNAME:CDT
END:DAYLIGHT
BEGIN:STANDARD
TZOFFSETFROM:-0500
TZOFFSETTO:-0600
DTSTART:20071104T020000
RRULE:FREQ=YEARLY;BYMONTH=11;BYDAY=1SU
TZNAME:CST
END:STANDARD
END:VTIMEZONE
BEGIN:VEVENT
UID:4049ffb5-742d-43df-8d55-283b07185588.231757@calendar.missouristate.edu
CREATED:20231012T051511Z
LAST-MODIFIED:20231012T051511Z
LOCATION:Hammons Field
SUMMARY:Missouri State University Baseball vs Missouri - Maroon Out | Foam
  Finger Giveaway&lt;br /&gt;Bears Fund Pregame Tailgate&lt;br /&gt;FSL Night
DESCRIPTION:Missouri State University Baseball hosts Missouri - Maroon Out
  | Foam Finger GiveawayBears Fund Pregame TailgateFSL Night
X-ALT-DESC;FMTTYPE=text/html:&lt;html&gt;&lt;head&gt;&lt;title&gt;&lt;/title&gt;&lt;/head&gt;&lt;body&gt;Misso
 uri State University Baseball hosts Missouri - Maroon Out | Foam Finger G
 iveaway&lt;br /&gt;Bears Fund Pregame Tailgate&lt;br /&gt;FSL Night&lt;/body&gt;&lt;/html&gt;
DTSTART;TZID=America/Chicago:20240416T183000
DTEND;TZID=America/Chicago:20240416T213000
SEQUENCE:0
URL:http://missouristatebears.com/index.aspx?path=baseball
CATEGORIES:Current Students,Future Students,Parents and Family,Alumni,
 Faculty,Staff,Community,Visitors,Athletics
END:VEVENT
END:VCALENDAR