BEGIN:VCALENDAR
VERSION:2.0
METHOD:PUBLISH
PRODID:-//Missouri State University/Calendar of Events//EN
CALSCALE:GREGORIAN
X-WR-TIMEZONE:America/Chicago
BEGIN:VTIMEZONE
TZID:America/Chicago
BEGIN:DAYLIGHT
TZOFFSETFROM:-0600
TZOFFSETTO:-0500
DTSTART:20070311T020000
RRULE:FREQ=YEARLY;BYMONTH=3;BYDAY=2SU
TZNAME:CDT
END:DAYLIGHT
BEGIN:STANDARD
TZOFFSETFROM:-0500
TZOFFSETTO:-0600
DTSTART:20071104T020000
RRULE:FREQ=YEARLY;BYMONTH=11;BYDAY=1SU
TZNAME:CST
END:STANDARD
END:VTIMEZONE
BEGIN:VEVENT
UID:db6309be-4819-4a3c-9f89-cfeba20811f6.231773@calendar.missouristate.edu
CREATED:20231012T051512Z
LAST-MODIFIED:20231012T051512Z
LOCATION:Hammons Field
SUMMARY:Missouri State University Baseball vs Oral Roberts - Raffle Night
DESCRIPTION:Missouri State University Baseball hosts Oral Roberts - Raffle
  Night
X-ALT-DESC;FMTTYPE=text/html:&lt;html&gt;&lt;head&gt;&lt;title&gt;&lt;/title&gt;&lt;/head&gt;&lt;body&gt;Misso
 uri State University Baseball hosts Oral Roberts - Raffle Night&lt;/body&gt;&lt;/h
 tml&gt;
DTSTART;TZID=America/Chicago:20240514T183000
DTEND;TZID=America/Chicago:20240514T213000
SEQUENCE:0
URL:http://missouristatebears.com/index.aspx?path=baseball
CATEGORIES:Current Students,Future Students,Parents and Family,Alumni,
 Faculty,Staff,Community,Visitors,Athletics
END:VEVENT
END:VCALENDAR