BEGIN:VCALENDAR
VERSION:2.0
METHOD:PUBLISH
PRODID:-//Missouri State University/Calendar of Events//EN
CALSCALE:GREGORIAN
X-WR-TIMEZONE:America/Chicago
BEGIN:VTIMEZONE
TZID:America/Chicago
BEGIN:DAYLIGHT
TZOFFSETFROM:-0600
TZOFFSETTO:-0500
DTSTART:20070311T020000
RRULE:FREQ=YEARLY;BYMONTH=3;BYDAY=2SU
TZNAME:CDT
END:DAYLIGHT
BEGIN:STANDARD
TZOFFSETFROM:-0500
TZOFFSETTO:-0600
DTSTART:20071104T020000
RRULE:FREQ=YEARLY;BYMONTH=11;BYDAY=1SU
TZNAME:CST
END:STANDARD
END:VTIMEZONE
BEGIN:VEVENT
UID:b220086e-27c2-4520-bf67-900ffeb47e12_11077@calendar.missouristate.edu
CREATED:20231012T200435Z
LAST-MODIFIED:20231012T200435Z
LOCATION:McDonald Hall &amp; Arena Courts
SUMMARY:Pickleball at McDonald Arena
DESCRIPTION:Pickleball at McDonald Arena
X-ALT-DESC;FMTTYPE=text/html:&lt;html&gt;&lt;head&gt;&lt;title&gt;&lt;/title&gt;&lt;/head&gt;&lt;body&gt;&lt;p&gt;&lt;a
  href="https://www.missouristate.edu/Wellness/Pickleball.htm" title="Pick
 leball at McDonald Arena"&gt;Pickleball at McDonald Arena&lt;/a&gt;&lt;/p&gt;&lt;/body&gt;&lt;/ht
 ml&gt;
DTSTART;TZID=America/Chicago:20231017T180000
DTEND;TZID=America/Chicago:20231017T210000
RRULE:FREQ=WEEKLY;BYDAY=MO,TU;UNTIL=20231214
SEQUENCE:9
URL:https://www.missouristate.edu/Wellness/Pickleball.htm
CATEGORIES:Public,Alumni,Current Students,Faculty,Staff
END:VEVENT
END:VCALENDAR