BEGIN:VCALENDAR
VERSION:2.0
METHOD:PUBLISH
PRODID:-//Missouri State University/Calendar of Events//EN
CALSCALE:GREGORIAN
X-WR-TIMEZONE:America/Chicago
BEGIN:VTIMEZONE
TZID:America/Chicago
BEGIN:DAYLIGHT
TZOFFSETFROM:-0600
TZOFFSETTO:-0500
DTSTART:20070311T020000
RRULE:FREQ=YEARLY;BYMONTH=3;BYDAY=2SU
TZNAME:CDT
END:DAYLIGHT
BEGIN:STANDARD
TZOFFSETFROM:-0500
TZOFFSETTO:-0600
DTSTART:20071104T020000
RRULE:FREQ=YEARLY;BYMONTH=11;BYDAY=1SU
TZNAME:CST
END:STANDARD
END:VTIMEZONE
BEGIN:VEVENT
UID:3cfb91cb-0f66-4733-b876-db92c0e61822_11078@calendar.missouristate.edu
CREATED:20231012T201126Z
LAST-MODIFIED:20231012T201126Z
LOCATION:Magers Health and Wellness Center 100
SUMMARY:Fab\, Fit and Fun at Magers
DESCRIPTION:Fab\, Fit and Fun at Magers
X-ALT-DESC;FMTTYPE=text/html:&lt;html&gt;&lt;head&gt;&lt;title&gt;&lt;/title&gt;&lt;/head&gt;&lt;body&gt;&lt;p&gt;&lt;a
  href="https://www.missouristate.edu/Wellness/Fab-Fit-and-Fun.htm" title=
 "Fab\, Fit and Fun at Magers"&gt;Fab\, Fit and Fun at Magers&lt;/a&gt;&lt;/p&gt;&lt;/body&gt;&lt;
 /html&gt;
DTSTART;TZID=America/Chicago:20231017T171500
DTEND;TZID=America/Chicago:20231017T181500
RRULE:FREQ=WEEKLY;BYDAY=MO,WE;UNTIL=20231220
EXDATE;TZID=America/Chicago:20231123T171500
SEQUENCE:0
URL:https://www.missouristate.edu/Wellness/Fab-Fit-and-Fun.htm
CATEGORIES:Faculty,Staff
END:VEVENT
END:VCALENDAR