BEGIN:VCALENDAR
VERSION:2.0
METHOD:PUBLISH
PRODID:-//Missouri State University/Calendar of Events//EN
CALSCALE:GREGORIAN
X-WR-TIMEZONE:America/Chicago
BEGIN:VTIMEZONE
TZID:America/Chicago
BEGIN:DAYLIGHT
TZOFFSETFROM:-0600
TZOFFSETTO:-0500
DTSTART:20070311T020000
RRULE:FREQ=YEARLY;BYMONTH=3;BYDAY=2SU
TZNAME:CDT
END:DAYLIGHT
BEGIN:STANDARD
TZOFFSETFROM:-0500
TZOFFSETTO:-0600
DTSTART:20071104T020000
RRULE:FREQ=YEARLY;BYMONTH=11;BYDAY=1SU
TZNAME:CST
END:STANDARD
END:VTIMEZONE
BEGIN:VEVENT
UID:be167615-f497-4d00-8fe0-5241fdcb0576.231846@calendar.missouristate.edu
CREATED:20231109T174055Z
LAST-MODIFIED:20231109T174055Z
LOCATION:Ann Kampeter Health Sciences Hall 427
SUMMARY:Nutrition Talks with Dietetics - Beyond the Needle
DESCRIPTION:Nutrition Talks with Dietetics
X-ALT-DESC;FMTTYPE=text/html:&lt;html&gt;&lt;head&gt;&lt;title&gt;&lt;/title&gt;&lt;/head&gt;&lt;body&gt;&lt;p&gt;&lt;a
  href="https://www.missouristate.edu/Wellness/nutrition-talks.htm" title=
 "Nutrition Talks with Dietetics"&gt;Nutrition Talks with Dietetics&lt;/a&gt;&lt;/p&gt;\n
 &lt;p&gt;&lt;/p&gt;&lt;/body&gt;&lt;/html&gt;
DTSTART;TZID=America/Chicago:20231114T171500
DTEND;TZID=America/Chicago:20231114T181500
SEQUENCE:0
URL:https://www.missouristate.edu/Wellness/nutrition-talks.htm
CATEGORIES:Faculty,Staff
END:VEVENT
END:VCALENDAR