BEGIN:VCALENDAR
VERSION:2.0
METHOD:PUBLISH
PRODID:-//Missouri State University/Calendar of Events//EN
CALSCALE:GREGORIAN
X-WR-TIMEZONE:America/Chicago
BEGIN:VTIMEZONE
TZID:America/Chicago
BEGIN:DAYLIGHT
TZOFFSETFROM:-0600
TZOFFSETTO:-0500
DTSTART:20070311T020000
RRULE:FREQ=YEARLY;BYMONTH=3;BYDAY=2SU
TZNAME:CDT
END:DAYLIGHT
BEGIN:STANDARD
TZOFFSETFROM:-0500
TZOFFSETTO:-0600
DTSTART:20071104T020000
RRULE:FREQ=YEARLY;BYMONTH=11;BYDAY=1SU
TZNAME:CST
END:STANDARD
END:VTIMEZONE
BEGIN:VEVENT
UID:e4f4239d-5e81-40db-840d-6b954dd56dc7.231847@calendar.missouristate.edu
CREATED:20231109T174106Z
LAST-MODIFIED:20231109T174106Z
LOCATION:Ann Kampeter Health Sciences Hall 427
SUMMARY:Cooking Demonstrations - Dietetics at Kampeter
DESCRIPTION:Cooking Demonstrations - Dietetics at Kampeter
X-ALT-DESC;FMTTYPE=text/html:&lt;html&gt;&lt;head&gt;&lt;title&gt;&lt;/title&gt;&lt;/head&gt;&lt;body&gt;&lt;p&gt;&lt;a
  href="https://www.missouristate.edu/Wellness/cooking-demonstrations.htm"
  title="Cooking Demonstrations - Dietetics at Kampeter"&gt;Cooking Demonstra
 tions - Dietetics at Kampeter&lt;/a&gt;&lt;/p&gt;&lt;/body&gt;&lt;/html&gt;
DTSTART;TZID=America/Chicago:20231116T123000
DTEND;TZID=America/Chicago:20231116T130300
SEQUENCE:0
URL:https://www.missouristate.edu/Wellness/cooking-demonstrations.htm
CATEGORIES:Faculty,Staff
END:VEVENT
END:VCALENDAR