BEGIN:VCALENDAR
VERSION:2.0
METHOD:PUBLISH
PRODID:-//Missouri State University/Calendar of Events//EN
CALSCALE:GREGORIAN
X-WR-TIMEZONE:America/Chicago
BEGIN:VTIMEZONE
TZID:America/Chicago
BEGIN:DAYLIGHT
TZOFFSETFROM:-0600
TZOFFSETTO:-0500
DTSTART:20070311T020000
RRULE:FREQ=YEARLY;BYMONTH=3;BYDAY=2SU
TZNAME:CDT
END:DAYLIGHT
BEGIN:STANDARD
TZOFFSETFROM:-0500
TZOFFSETTO:-0600
DTSTART:20071104T020000
RRULE:FREQ=YEARLY;BYMONTH=11;BYDAY=1SU
TZNAME:CST
END:STANDARD
END:VTIMEZONE
BEGIN:VEVENT
UID:1cc92661-49d8-404e-bd18-5b2aadfc7c80.231851@calendar.missouristate.edu
CREATED:20231023T134830Z
LAST-MODIFIED:20231023T134830Z
LOCATION:
SUMMARY:PAMS Seminar: "Inversion and Time-reversal Symmetry Broken Weyl Se
 mimetal" by Dr. Halya Hodovanets
DESCRIPTION:Dr. Halya HodovanetsMissouri University of Science &amp;Technology
 \n\n\nAbstract:Weyl semimetals are among the materials proposed to have s
 ignificant potential in informational technologies and to harbor the nece
 ssary elements for quantum computing. They host Weyl nodes at specific po
 ints in their Brillouin zone\, a pair of relativistic fermions with diffe
 rent chirality\, Weyl fermions. The nontrivial momentum-space topology du
 e to the Weyl nodes leads to various fascinating phenomena\, such as the 
 chiral anomaly\, chiral magnetic effect\, anomalous magnetoresistance and
  Hall effect\, large nonsaturating thermoelectric power and ultrafast pho
 tocurrents just to name a few. The essential ingredients for the realizat
 ion of the Weyl semimetal are the absence of inversion symmetry and/or ti
 me-reversal symmetry. The RAlX (where R=Rare Earth and X=Ge\, Si) family\
 , where both symmetries are broken\, has been recently identified as a la
 rge class of Weyl semimetal based on systematic first-principles band str
 ucture calculations and APRES measurements. In this respect\, I will pres
 ent details and importance of crystal growth of non-centrosymmetric CeAlG
 e single crystals\, their physical properties\, anomalous magnetotranspor
 t\, and discuss the future implications of our findings and the tunabilit
 y of RAlGe and RAlSi families.\n\n\nThis is a Zoom seminar: https://misso
 uristate.zoom.us/s/95408107110
X-ALT-DESC;FMTTYPE=text/html:&lt;html&gt;&lt;head&gt;&lt;title&gt;&lt;/title&gt;&lt;/head&gt;&lt;body&gt;&lt;p&gt;&lt;b
 &gt;Dr. Halya Hodovanets&lt;/b&gt;&lt;br&gt;&lt;b&gt;Missouri University of Science &amp;amp\;Tech
 nology&lt;/b&gt;&lt;/p&gt;\n&lt;p&gt;Abstract:&lt;br&gt;Weyl semimetals are among the materials p
 roposed to have significant potential in informational technologies and t
 o harbor the necessary elements for quantum computing. They host Weyl nod
 es at specific points in their Brillouin zone\, a pair of relativistic fe
 rmions with different chirality\, Weyl fermions. The nontrivial momentum-
 space topology due to the Weyl nodes leads to various fascinating phenome
 na\, such as the chiral anomaly\, chiral magnetic effect\, anomalous magn
 etoresistance and Hall effect\, large nonsaturating thermoelectric power 
 and ultrafast photocurrents just to name a few. The essential ingredients
  for the realization of the Weyl semimetal are the absence of inversion s
 ymmetry and/or time-reversal symmetry. The RAlX (where R=Rare Earth and X
 =Ge\, Si) family\, where both symmetries are broken\, has been recently i
 dentified as a large class of Weyl semimetal based on systematic first-pr
 inciples band structure calculations and APRES measurements. In this resp
 ect\, I will present details and importance of crystal growth of non-cent
 rosymmetric CeAlGe single crystals\, their physical properties\, anomalou
 s magnetotransport\, and discuss the future implications of our findings 
 and the tunability of RAlGe and RAlSi families.&lt;/p&gt;\n&lt;p&gt;This is a Zoom se
 minar:&amp;nbsp\;&lt;a href="https://missouristate.zoom.us/s/95408107110" target
 ="_blank"&gt;&lt;span&gt;https://missouristate.zoom.us/s/95408107110&lt;/span&gt;&lt;/a&gt;&lt;/p
 &gt;&lt;/body&gt;&lt;/html&gt;
DTSTART;TZID=America/Chicago:20231026T160000
DTEND;TZID=America/Chicago:20231026T170000
SEQUENCE:0
URL:https://physics.missouristate.edu/seminars.htm
CATEGORIES:Public,Alumni,Current Students,Faculty,Future Students,Staff
END:VEVENT
END:VCALENDAR