BEGIN:VCALENDAR
VERSION:2.0
METHOD:PUBLISH
PRODID:-//Missouri State University/Calendar of Events//EN
CALSCALE:GREGORIAN
X-WR-TIMEZONE:America/Chicago
BEGIN:VTIMEZONE
TZID:America/Chicago
BEGIN:DAYLIGHT
TZOFFSETFROM:-0600
TZOFFSETTO:-0500
DTSTART:20070311T020000
RRULE:FREQ=YEARLY;BYMONTH=3;BYDAY=2SU
TZNAME:CDT
END:DAYLIGHT
BEGIN:STANDARD
TZOFFSETFROM:-0500
TZOFFSETTO:-0600
DTSTART:20071104T020000
RRULE:FREQ=YEARLY;BYMONTH=11;BYDAY=1SU
TZNAME:CST
END:STANDARD
END:VTIMEZONE
BEGIN:VEVENT
UID:0f2decc9-1f44-4be7-8181-b2d7932edd2e.231857@calendar.missouristate.edu
CREATED:20231024T160239Z
LAST-MODIFIED:20231024T160239Z
LOCATION:Meyer Library\, Duane G. 107
SUMMARY:Book Talk: "The Winning Spirit: 16 Timeless Principles That Drive 
 Performance Excellence"
DESCRIPTION:Staff will read and discuss "The Winning Spirit: 16 Timeless P
 rinciples That Drive Performance Excellence" by Joe Montana and Tom Mitch
 ell\, PhD. If you would like a copy of the book\, please reach out to Chr
 istina Bowles at CBowles@MissouriState.edu. The books will be on a first 
 come\, first serve basis\, but anyone can join the discussion.
X-ALT-DESC;FMTTYPE=text/html:&lt;html&gt;&lt;head&gt;&lt;title&gt;&lt;/title&gt;&lt;/head&gt;&lt;body&gt;&lt;p&gt;&lt;s
 pan&gt;Staff will read and discuss "&lt;a href="https://www.amazon.com/Winning-
 Spirit-Principles-Performance-Excellence/dp/1532777876"&gt;The Winning Spiri
 t: 16 Timeless Principles That Drive Performance Excellence&lt;/a&gt;" by Joe M
 ontana and Tom Mitchell\, PhD. &lt;br&gt;&lt;br&gt;If you would like a copy of the bo
 ok\, please reach out to Christina Bowles at CBowles@MissouriState.edu. T
 he books will be on a first come\, first serve basis\, but anyone can joi
 n the discussion.&lt;/span&gt;&lt;/p&gt;&lt;/body&gt;&lt;/html&gt;
DTSTART;TZID=America/Chicago:20231102T150000
DTEND;TZID=America/Chicago:20231102T160000
SEQUENCE:0
URL:
CATEGORIES:Staff
END:VEVENT
END:VCALENDAR