BEGIN:VCALENDAR
VERSION:2.0
METHOD:PUBLISH
PRODID:-//Missouri State University/Calendar of Events//EN
CALSCALE:GREGORIAN
X-WR-TIMEZONE:America/Chicago
BEGIN:VTIMEZONE
TZID:America/Chicago
BEGIN:DAYLIGHT
TZOFFSETFROM:-0600
TZOFFSETTO:-0500
DTSTART:20070311T020000
RRULE:FREQ=YEARLY;BYMONTH=3;BYDAY=2SU
TZNAME:CDT
END:DAYLIGHT
BEGIN:STANDARD
TZOFFSETFROM:-0500
TZOFFSETTO:-0600
DTSTART:20071104T020000
RRULE:FREQ=YEARLY;BYMONTH=11;BYDAY=1SU
TZNAME:CST
END:STANDARD
END:VTIMEZONE
BEGIN:VEVENT
UID:b8a23fb3-d647-456c-b256-32bce4ce5a29.231859@calendar.missouristate.edu
CREATED:20231025T153409Z
LAST-MODIFIED:20231025T153409Z
LOCATION:Meyer Library\, Duane G.
SUMMARY:What's Brewing at Your Library
DESCRIPTION:Discover what’s new at the University Libraries as we celebrat
 e the end of the semester with beer tasting sponsored by local breweries\
 , food\, live music by Justin Larkin and fun. \nThis event is for MSU fac
 ulty and staff (21+) — no need to RSVP.\nHors d’oeuvres and nonalcoholic 
 beverages by Chartwells.
X-ALT-DESC;FMTTYPE=text/html:&lt;html&gt;&lt;head&gt;&lt;title&gt;&lt;/title&gt;&lt;/head&gt;&lt;body&gt;&lt;div&gt;
 Discover what’s new at the University Libraries as we celebrate the end o
 f the semester with beer tasting sponsored by local breweries\, food\, li
 ve music by Justin Larkin and fun.&amp;nbsp\;&lt;/div&gt;\n&lt;div&gt;This event is for M
 SU faculty and staff (21+) — no need to RSVP.&lt;/div&gt;\n&lt;div&gt;Hors d’oeuvres 
 and nonalcoholic beverages by Chartwells.&lt;/div&gt;&lt;/body&gt;&lt;/html&gt;
DTSTART;TZID=America/Chicago:20231214T170000
DTEND;TZID=America/Chicago:20231214T190000
SEQUENCE:0
URL:
CATEGORIES:Faculty,Staff
END:VEVENT
END:VCALENDAR