BEGIN:VCALENDAR
VERSION:2.0
METHOD:PUBLISH
PRODID:-//Missouri State University/Calendar of Events//EN
CALSCALE:GREGORIAN
X-WR-TIMEZONE:America/Chicago
BEGIN:VTIMEZONE
TZID:America/Chicago
BEGIN:DAYLIGHT
TZOFFSETFROM:-0600
TZOFFSETTO:-0500
DTSTART:20070311T020000
RRULE:FREQ=YEARLY;BYMONTH=3;BYDAY=2SU
TZNAME:CDT
END:DAYLIGHT
BEGIN:STANDARD
TZOFFSETFROM:-0500
TZOFFSETTO:-0600
DTSTART:20071104T020000
RRULE:FREQ=YEARLY;BYMONTH=11;BYDAY=1SU
TZNAME:CST
END:STANDARD
END:VTIMEZONE
BEGIN:VEVENT
UID:be848434-8e28-49c3-bc7c-2ae6c69fc74a_11079@calendar.missouristate.edu
CREATED:20231024T162116Z
LAST-MODIFIED:20231024T162116Z
LOCATION:Brick City 3
SUMMARY:Biennial Design + Image Exhibition 
DESCRIPTION:The Biennial Design + Image exhibition is a long-standing trad
 ition\, curated from the best works from all design and illustration clas
 ses from sophomore to senior levels. Design and illustration students als
 o gain hands-on experience by installing the exhibit.\n\n\nThis exhibitio
 n is open from Oct. 20-Nov. 8. We will celebrate our students and their w
 ork during First Friday Art Walk\, Nov. 3\, 6-9 p.m.
X-ALT-DESC;FMTTYPE=text/html:&lt;html&gt;&lt;head&gt;&lt;title&gt;&lt;/title&gt;&lt;/head&gt;&lt;body&gt;&lt;p&gt;Th
 e Biennial Design + Image exhibition is a long-standing tradition\, curat
 ed from the best works from all design and illustration classes from soph
 omore to senior levels. Design and illustration students also gain hands-
 on experience by installing the exhibit.&lt;/p&gt;\n&lt;p&gt;This exhibition is open 
 from Oct. 20-Nov. 8. We will celebrate our students and their work during
  First Friday Art Walk\, Nov. 3\, 6-9 p.m.&lt;/p&gt;&lt;/body&gt;&lt;/html&gt;
DTSTART;TZID=America/Chicago:20231020T110000
DTEND;TZID=America/Chicago:20231020T180000
RRULE:FREQ=WEEKLY;BYDAY=MO,TU,WE,TH,FR;UNTIL=20231109
SEQUENCE:0
URL:https://brickcitygallery.missouristate.edu/
CATEGORIES:Public,Alumni,Current Students,Faculty,Future Students,Staff
END:VEVENT
BEGIN:VEVENT
UID:be848434-8e28-49c3-bc7c-2ae6c69fc74a.231879@calendar.missouristate.edu
CREATED:20231024T162116Z
LAST-MODIFIED:20231024T162116Z
LOCATION:Brick City 3
SUMMARY:Biennial Design + Image Exhibition 
DESCRIPTION:The Biennial Design + Image exhibition is a long-standing trad
 ition\, curated from the best works from all design and illustration clas
 ses from sophomore to senior levels. Design and illustration students als
 o gain hands-on experience by installing the exhibit.\n\n\nThis exhibitio
 n is open from Oct. 20-Nov. 8. We will celebrate our students and their w
 ork during First Friday Art Walk\, Nov. 3\, 6-9 p.m.
X-ALT-DESC;FMTTYPE=text/html:&lt;html&gt;&lt;head&gt;&lt;title&gt;&lt;/title&gt;&lt;/head&gt;&lt;body&gt;&lt;p&gt;Th
 e Biennial Design + Image exhibition is a long-standing tradition\, curat
 ed from the best works from all design and illustration classes from soph
 omore to senior levels. Design and illustration students also gain hands-
 on experience by installing the exhibit.&lt;/p&gt;\n&lt;p&gt;This exhibition is open 
 from Oct. 20-Nov. 8. We will celebrate our students and their work during
  First Friday Art Walk\, Nov. 3\, 6-9 p.m.&lt;/p&gt;&lt;/body&gt;&lt;/html&gt;
DTSTART;TZID=America/Chicago:20231103T180000
DTEND;TZID=America/Chicago:20231103T210000
SEQUENCE:0
URL:https://brickcitygallery.missouristate.edu/
CATEGORIES:Public,Alumni,Current Students,Faculty,Future Students,Staff
END:VEVENT
END:VCALENDAR