BEGIN:VCALENDAR
VERSION:2.0
METHOD:PUBLISH
PRODID:-//Missouri State University/Calendar of Events//EN
CALSCALE:GREGORIAN
X-WR-TIMEZONE:America/Chicago
BEGIN:VTIMEZONE
TZID:America/Chicago
BEGIN:DAYLIGHT
TZOFFSETFROM:-0600
TZOFFSETTO:-0500
DTSTART:20070311T020000
RRULE:FREQ=YEARLY;BYMONTH=3;BYDAY=2SU
TZNAME:CDT
END:DAYLIGHT
BEGIN:STANDARD
TZOFFSETFROM:-0500
TZOFFSETTO:-0600
DTSTART:20071104T020000
RRULE:FREQ=YEARLY;BYMONTH=11;BYDAY=1SU
TZNAME:CST
END:STANDARD
END:VTIMEZONE
BEGIN:VEVENT
UID:4ae34a0f-f6d0-4188-9841-73c5466d1193.231880@calendar.missouristate.edu
CREATED:20231020T152315Z
LAST-MODIFIED:20231020T152315Z
LOCATION:Plaster Student Union\, Robert W. Ballroom (300)
SUMMARY:HalloQueen 
DESCRIPTION:Join Ekklesia for a night of spooky trivia\, drag\, a costume 
 contest\, 50/50 drawings\, silent auction\, prizes and more! Our MC for t
 he night will be the sensational drag performer Lucy Fur (winner of RHA's
  2023 Good Queen Fun). This event is a fundraiser to help support Ekklesi
 a and the work we do to foster inclusion on campus and beyond\, and it's 
 going to be a night to remember (cue spooky music). See you there!
X-ALT-DESC;FMTTYPE=text/html:&lt;html&gt;&lt;head&gt;&lt;title&gt;&lt;/title&gt;&lt;/head&gt;&lt;body&gt;&lt;p&gt;Jo
 in Ekklesia for a night of spooky trivia\, drag\, a costume contest\, 50/
 50 drawings\, silent auction\, prizes and more! Our MC for the night will
  be the sensational drag performer Lucy Fur (winner of RHA's 2023 Good Qu
 een Fun). This event is a fundraiser to help support Ekklesia and the wor
 k we do to foster inclusion on campus and beyond\, and it's going to be a
  night to remember (cue spooky music). See you there!&lt;/p&gt;&lt;/body&gt;&lt;/html&gt;
DTSTART;TZID=America/Chicago:20231025T000000
DTEND;TZID=America/Chicago:20231025T000000
SEQUENCE:0
URL:https://form-renderer-app.donorperfect.io/give/united-ministries-in-hi
 gher-education/drag-trivia-registration-copy
CATEGORIES:Public,Alumni,Current Students,Faculty,Future Students,Staff
END:VEVENT
END:VCALENDAR